BEGIN:VCALENDAR
VERSION:2.0
PRODID:-//Fridrich &amp; Clark - ECPv6.0.12//NONSGML v1.0//EN
CALSCALE:GREGORIAN
METHOD:PUBLISH
X-ORIGINAL-URL:https://backend.fridrichandclark.com
X-WR-CALDESC:Events for Fridrich &amp; Clark
REFRESH-INTERVAL;VALUE=DURATION:PT1H
X-Robots-Tag:noindex
X-PUBLISHED-TTL:PT1H
BEGIN:VTIMEZONE
TZID:America/Chicago
BEGIN:DAYLIGHT
TZOFFSETFROM:-0600
TZOFFSETTO:-0500
TZNAME:CDT
DTSTART:20230312T080000
END:DAYLIGHT
BEGIN:STANDARD
TZOFFSETFROM:-0500
TZOFFSETTO:-0600
TZNAME:CST
DTSTART:20231105T070000
END:STANDARD
END:VTIMEZONE
BEGIN:VEVENT
DTSTART;TZID=America/Chicago:20231114T113000
DTEND;TZID=America/Chicago:20231114T133000
DTSTAMP:20260419T120556
CREATED:20231020T221844Z
LAST-MODIFIED:20231020T221905Z
UID:30671-1699961400-1699968600@backend.fridrichandclark.com
SUMMARY:🦃Bedford Office Thanksgiving Potluck
DESCRIPTION:Sign up at the front desk to bring a dish🦃
URL:https://backend.fridrichandclark.com/event/%f0%9f%a6%83bedford-office-thanksgiving-potluck/
LOCATION:Green Hills Office\, 3825 Bedford Avenue\, Nashville\, TN\, 37215\, United States
CATEGORIES:Company Events
GEO:36.1074927;-86.8211913
X-APPLE-STRUCTURED-LOCATION;VALUE=URI;X-ADDRESS=Green Hills Office 3825 Bedford Avenue Nashville TN 37215 United States;X-APPLE-RADIUS=500;X-TITLE=3825 Bedford Avenue:geo:-86.8211913,36.1074927
END:VEVENT
BEGIN:VEVENT
DTSTART;TZID=America/Chicago:20231116T113000
DTEND;TZID=America/Chicago:20231116T133000
DTSTAMP:20260419T120556
CREATED:20231020T222549Z
LAST-MODIFIED:20231020T222549Z
UID:30673-1700134200-1700141400@backend.fridrichandclark.com
SUMMARY:🦃Brentwood Office Thanksgiving Potluck
DESCRIPTION:Please sign up to bring a dish at your front desk🦃
URL:https://backend.fridrichandclark.com/event/%f0%9f%a6%83brentwood-office-thanksgiving-potluck/
LOCATION:TN
CATEGORIES:Company Events
END:VEVENT
END:VCALENDAR