BEGIN:VCALENDAR
VERSION:2.0
PRODID:-//Fridrich &amp; Clark - ECPv6.0.12//NONSGML v1.0//EN
CALSCALE:GREGORIAN
METHOD:PUBLISH
X-WR-CALNAME:Fridrich &amp; Clark
X-ORIGINAL-URL:https://backend.fridrichandclark.com
X-WR-CALDESC:Events for Fridrich &amp; Clark
REFRESH-INTERVAL;VALUE=DURATION:PT1H
X-Robots-Tag:noindex
X-PUBLISHED-TTL:PT1H
BEGIN:VTIMEZONE
TZID:America/Chicago
BEGIN:DAYLIGHT
TZOFFSETFROM:-0600
TZOFFSETTO:-0500
TZNAME:CDT
DTSTART:20220313T080000
END:DAYLIGHT
BEGIN:STANDARD
TZOFFSETFROM:-0500
TZOFFSETTO:-0600
TZNAME:CST
DTSTART:20221106T070000
END:STANDARD
END:VTIMEZONE
BEGIN:VEVENT
DTSTART;TZID=America/Chicago:20220813T100000
DTEND;TZID=America/Chicago:20220813T130000
DTSTAMP:20260419T171330
CREATED:20220803T153659Z
LAST-MODIFIED:20220804T190712Z
UID:26091-1660384800-1660395600@backend.fridrichandclark.com
SUMMARY:Marilyn Blankenship's Celebration of Life Service & Parking Info
DESCRIPTION:Marilyn Blankenship’s “I thank God for Marilyn” Celebration of Life Service will be held on Saturday\, August 13th. \nGrace Center\n2420 Bethelehem Loop Rd\nFranklin\, TN 37069 \nVisitation from 10am to 12pm\nService to immediately follow the Visitation. \nIn lieu of flowers\, the family has requested that donations be made in memory of Marilyn to AliveHospice.org. \nNOTE FROM TERRY ABOUT PARKING: Bethlehem United Methodist Church is right across the street from Grace Center. It has a very large parking lot and they have agreed to allow our people to park there as overflow; however I would park there as the primary place since parking is tight at Grace Center
URL:https://backend.fridrichandclark.com/event/marilyn-blankenships-celebration-of-life-service/
LOCATION:TN
END:VEVENT
END:VCALENDAR