BEGIN:VCALENDAR
VERSION:2.0
PRODID:-//Fridrich &amp; Clark - ECPv6.0.12//NONSGML v1.0//EN
CALSCALE:GREGORIAN
METHOD:PUBLISH
X-WR-CALNAME:Fridrich &amp; Clark
X-ORIGINAL-URL:https://backend.fridrichandclark.com
X-WR-CALDESC:Events for Fridrich &amp; Clark
REFRESH-INTERVAL;VALUE=DURATION:PT1H
X-Robots-Tag:noindex
X-PUBLISHED-TTL:PT1H
BEGIN:VTIMEZONE
TZID:America/Chicago
BEGIN:DAYLIGHT
TZOFFSETFROM:-0600
TZOFFSETTO:-0500
TZNAME:CDT
DTSTART:20200308T080000
END:DAYLIGHT
BEGIN:STANDARD
TZOFFSETFROM:-0500
TZOFFSETTO:-0600
TZNAME:CST
DTSTART:20201101T070000
END:STANDARD
END:VTIMEZONE
BEGIN:VEVENT
DTSTART;VALUE=DATE:20200809
DTEND;VALUE=DATE:20200810
DTSTAMP:20260420T072515
CREATED:20201111T150604Z
LAST-MODIFIED:20201216T022659Z
UID:19565-1596931200-1597017599@backend.fridrichandclark.com
SUMMARY:Savannah Ames Birthday
DESCRIPTION:
URL:https://backend.fridrichandclark.com/event/savannah-ames-birthday/2020-08-09/
LOCATION:TN
CATEGORIES:Birthday
END:VEVENT
BEGIN:VEVENT
DTSTART;TZID=America/Chicago:20200810T093000
DTEND;TZID=America/Chicago:20200810T103000
DTSTAMP:20260420T072515
CREATED:20200713T203912Z
LAST-MODIFIED:20200713T203912Z
UID:18373-1597051800-1597055400@backend.fridrichandclark.com
SUMMARY:Realities of Real Estate
DESCRIPTION:Co Hosted by Courtney Jenrath & Sean Simons \nRecurring Zoom Meeting Link for All Meetings:      https://us04web.zoom.us/j/73174441536?pwd=UmF4MmQ2MTFlWnhZd3ZBOGpGK3hxQT09  
URL:https://backend.fridrichandclark.com/event/realities-of-real-estate/
LOCATION:TN
CATEGORIES:Training
END:VEVENT
BEGIN:VEVENT
DTSTART;TZID=America/Chicago:20200811T093000
DTEND;TZID=America/Chicago:20200811T103000
DTSTAMP:20260420T072515
CREATED:20200713T203740Z
LAST-MODIFIED:20200713T203740Z
UID:18369-1597138200-1597141800@backend.fridrichandclark.com
SUMMARY:Company Zoom Meeting
DESCRIPTION:Recurring Zoom Meeting Link for All Meetings:      https://us04web.zoom.us/j/73174441536?pwd=UmF4MmQ2MTFlWnhZd3ZBOGpGK3hxQT09  
URL:https://backend.fridrichandclark.com/event/company-zoom-meeting-3/
LOCATION:TN
CATEGORIES:Sales Meeting
END:VEVENT
END:VCALENDAR