BEGIN:VCALENDAR
VERSION:2.0
PRODID:-//Fridrich &amp; Clark - ECPv6.0.12//NONSGML v1.0//EN
CALSCALE:GREGORIAN
METHOD:PUBLISH
X-ORIGINAL-URL:https://backend.fridrichandclark.com
X-WR-CALDESC:Events for Fridrich &amp; Clark
REFRESH-INTERVAL;VALUE=DURATION:PT1H
X-Robots-Tag:noindex
X-PUBLISHED-TTL:PT1H
BEGIN:VTIMEZONE
TZID:America/New_York
BEGIN:DAYLIGHT
TZOFFSETFROM:-0500
TZOFFSETTO:-0400
TZNAME:EDT
DTSTART:20190310T070000
END:DAYLIGHT
BEGIN:STANDARD
TZOFFSETFROM:-0400
TZOFFSETTO:-0500
TZNAME:EST
DTSTART:20191103T060000
END:STANDARD
TZID:America/Chicago
BEGIN:DAYLIGHT
TZOFFSETFROM:-0600
TZOFFSETTO:-0500
TZNAME:CDT
DTSTART:20190310T080000
END:DAYLIGHT
BEGIN:STANDARD
TZOFFSETFROM:-0500
TZOFFSETTO:-0600
TZNAME:CST
DTSTART:20191103T070000
END:STANDARD
END:VTIMEZONE
BEGIN:VEVENT
DTSTART;TZID=America/New_York:20190702T091500
DTEND;TZID=America/New_York:20190702T103000
DTSTAMP:20260421T160616
CREATED:20181219T140525Z
LAST-MODIFIED:20190611T130913Z
UID:12145-1562058900-1562063400@backend.fridrichandclark.com
SUMMARY:NO Bedford Office Sales Meeting
DESCRIPTION:Due to the holiday week there will be no Bedford Office Sales Meeting.   The next one is scheduled for July 16\, 2019.
URL:https://backend.fridrichandclark.com/event/bedford-office-sales-meeting-12/
LOCATION:TN
CATEGORIES:Sales Meeting
END:VEVENT
BEGIN:VEVENT
DTSTART;TZID=America/Chicago:20190709T091500
DTEND;TZID=America/Chicago:20190709T110000
DTSTAMP:20260421T160616
CREATED:20190121T161813Z
LAST-MODIFIED:20190604T200430Z
UID:12482-1562663700-1562670000@backend.fridrichandclark.com
SUMMARY:BW Sales Meeting & Wms Co Tour
DESCRIPTION:
URL:https://backend.fridrichandclark.com/event/bw-sales-meeting-wms-co-tour-2019-04-09-2019-07-09/2019-07-09/
LOCATION:TN
CATEGORIES:Property Tours,Sales Meeting
END:VEVENT
BEGIN:VEVENT
DTSTART;VALUE=DATE:20190713
DTEND;VALUE=DATE:20190714
DTSTAMP:20260421T160616
CREATED:20190114T235252Z
LAST-MODIFIED:20190114T235252Z
UID:12384-1562976000-1563062399@backend.fridrichandclark.com
SUMMARY:Tommy Patterson bday
DESCRIPTION:
URL:https://backend.fridrichandclark.com/event/tommy-patterson-bday/2019-07-13/
LOCATION:TN
END:VEVENT
BEGIN:VEVENT
DTSTART;TZID=America/New_York:20190715T093000
DTEND;TZID=America/New_York:20190715T103000
DTSTAMP:20260421T160616
CREATED:20181219T134836Z
LAST-MODIFIED:20190307T213432Z
UID:12091-1563183000-1563186600@backend.fridrichandclark.com
SUMMARY:Real Estate Review Training - Bedford Office
DESCRIPTION:
URL:https://backend.fridrichandclark.com/event/rare-training-hosted-by-whit-clark-8/
LOCATION:Green Hills Office\, 3825 Bedford Avenue\, Nashville\, TN\, 37215\, United States
CATEGORIES:Training
GEO:36.1074927;-86.8211913
X-APPLE-STRUCTURED-LOCATION;VALUE=URI;X-ADDRESS=Green Hills Office 3825 Bedford Avenue Nashville TN 37215 United States;X-APPLE-RADIUS=500;X-TITLE=3825 Bedford Avenue:geo:-86.8211913,36.1074927
END:VEVENT
BEGIN:VEVENT
DTSTART;TZID=America/New_York:20190716T091500
DTEND;TZID=America/New_York:20190716T103000
DTSTAMP:20260421T160616
CREATED:20181219T140559Z
LAST-MODIFIED:20181219T140559Z
UID:12147-1563268500-1563273000@backend.fridrichandclark.com
SUMMARY:Bedford Office Sales Meeting
DESCRIPTION:
URL:https://backend.fridrichandclark.com/event/bedford-office-sales-meeting-13/
LOCATION:Green Hills Office\, 3825 Bedford Avenue\, Nashville\, TN\, 37215\, United States
CATEGORIES:Sales Meeting
GEO:36.1074927;-86.8211913
X-APPLE-STRUCTURED-LOCATION;VALUE=URI;X-ADDRESS=Green Hills Office 3825 Bedford Avenue Nashville TN 37215 United States;X-APPLE-RADIUS=500;X-TITLE=3825 Bedford Avenue:geo:-86.8211913,36.1074927
END:VEVENT
BEGIN:VEVENT
DTSTART;TZID=America/New_York:20190723T091500
DTEND;TZID=America/New_York:20190723T111500
DTSTAMP:20260421T160616
CREATED:20181219T135505Z
LAST-MODIFIED:20190719T181019Z
UID:12113-1563873300-1563880500@backend.fridrichandclark.com
SUMMARY:Brentwood Real Estate Review w/Sean Simons & Davidson Co Tour
DESCRIPTION:
URL:https://backend.fridrichandclark.com/event/brentwood-real-estate-review-hosted-by-sean-simons-6/
LOCATION:TN
CATEGORIES:Property Tours,Training
END:VEVENT
BEGIN:VEVENT
DTSTART;TZID=America/Chicago:20190723T110000
DTEND;TZID=America/Chicago:20190723T130000
DTSTAMP:20260421T160616
CREATED:20190719T181149Z
LAST-MODIFIED:20190719T181149Z
UID:14744-1563879600-1563886800@backend.fridrichandclark.com
SUMMARY:791 Rodney Dr | Realtor Luncheon
DESCRIPTION:
URL:https://backend.fridrichandclark.com/event/791-rodney-dr-realtor-luncheon/
LOCATION:TN
ORGANIZER;CN="Sean%20Simons":MAILTO:nashvillerealestate@gmail.com
END:VEVENT
END:VCALENDAR