BEGIN:VCALENDAR
VERSION:2.0
PRODID:-//Fridrich &amp; Clark - ECPv6.0.12//NONSGML v1.0//EN
CALSCALE:GREGORIAN
METHOD:PUBLISH
X-WR-CALNAME:Fridrich &amp; Clark
X-ORIGINAL-URL:https://backend.fridrichandclark.com
X-WR-CALDESC:Events for Fridrich &amp; Clark
REFRESH-INTERVAL;VALUE=DURATION:PT1H
X-Robots-Tag:noindex
X-PUBLISHED-TTL:PT1H
BEGIN:VTIMEZONE
TZID:America/Chicago
BEGIN:DAYLIGHT
TZOFFSETFROM:-0600
TZOFFSETTO:-0500
TZNAME:CDT
DTSTART:20220313T080000
END:DAYLIGHT
BEGIN:STANDARD
TZOFFSETFROM:-0500
TZOFFSETTO:-0600
TZNAME:CST
DTSTART:20221106T070000
END:STANDARD
END:VTIMEZONE
BEGIN:VEVENT
DTSTART;VALUE=DATE:20220430
DTEND;VALUE=DATE:20220501
DTSTAMP:20260423T190842
CREATED:20220215T224427Z
LAST-MODIFIED:20230323T151434Z
UID:24357-1651276800-1651363199@backend.fridrichandclark.com
SUMMARY:Kate Giarratana B'day
DESCRIPTION:
URL:https://backend.fridrichandclark.com/event/kate-giarratana-bday/2022-04-30/
CATEGORIES:Birthday
END:VEVENT
BEGIN:VEVENT
DTSTART;TZID=America/Chicago:20220503T093000
DTEND;TZID=America/Chicago:20220503T113000
DTSTAMP:20260423T190842
CREATED:20220105T223605Z
LAST-MODIFIED:20220404T135418Z
UID:23951-1651570200-1651577400@backend.fridrichandclark.com
SUMMARY:Sales Meeting - at GNR
DESCRIPTION:
URL:https://backend.fridrichandclark.com/event/sales-meeting-5/
LOCATION:GNR Hal Wilson Education Center\, 4540 Trousdale Drive\, Nashville\, TN\, 37204\, United States
CATEGORIES:Company Events,Sales Meeting
END:VEVENT
BEGIN:VEVENT
DTSTART;TZID=America/Chicago:20220509T090000
DTEND;TZID=America/Chicago:20220509T130000
DTSTAMP:20260423T190842
CREATED:20220502T201320Z
LAST-MODIFIED:20220502T201320Z
UID:25171-1652086800-1652101200@backend.fridrichandclark.com
SUMMARY:F&C Shred Day at Bedford
DESCRIPTION:
URL:https://backend.fridrichandclark.com/event/fc-shred-day-at-bedford/
LOCATION:Green Hills Office\, 3825 Bedford Avenue\, Nashville\, TN\, 37215\, United States
CATEGORIES:Company Events
GEO:36.1074927;-86.8211913
X-APPLE-STRUCTURED-LOCATION;VALUE=URI;X-ADDRESS=Green Hills Office 3825 Bedford Avenue Nashville TN 37215 United States;X-APPLE-RADIUS=500;X-TITLE=3825 Bedford Avenue:geo:-86.8211913,36.1074927
END:VEVENT
BEGIN:VEVENT
DTSTART;TZID=America/Chicago:20220607T093000
DTEND;TZID=America/Chicago:20220607T103000
DTSTAMP:20260423T190842
CREATED:20220105T223718Z
LAST-MODIFIED:20220511T191727Z
UID:23955-1654594200-1654597800@backend.fridrichandclark.com
SUMMARY:Sales Meeting at Brentwood Office
DESCRIPTION:
URL:https://backend.fridrichandclark.com/event/sales-meeting-7/
LOCATION:Brentwood Office\, 5200 Maryland Way Suite 101\, Brentwood\, TN\, 37027\, United States
CATEGORIES:Sales Meeting
GEO:36.0357352;-86.8033277
X-APPLE-STRUCTURED-LOCATION;VALUE=URI;X-ADDRESS=Brentwood Office 5200 Maryland Way Suite 101 Brentwood TN 37027 United States;X-APPLE-RADIUS=500;X-TITLE=5200 Maryland Way Suite 101:geo:-86.8033277,36.0357352
END:VEVENT
END:VCALENDAR