BEGIN:VCALENDAR
VERSION:2.0
PRODID:-//Fridrich &amp; Clark - ECPv6.0.12//NONSGML v1.0//EN
CALSCALE:GREGORIAN
METHOD:PUBLISH
X-WR-CALNAME:Fridrich &amp; Clark
X-ORIGINAL-URL:https://backend.fridrichandclark.com
X-WR-CALDESC:Events for Fridrich &amp; Clark
REFRESH-INTERVAL;VALUE=DURATION:PT1H
X-Robots-Tag:noindex
X-PUBLISHED-TTL:PT1H
BEGIN:VTIMEZONE
TZID:America/Chicago
BEGIN:DAYLIGHT
TZOFFSETFROM:-0600
TZOFFSETTO:-0500
TZNAME:CDT
DTSTART:20210314T080000
END:DAYLIGHT
BEGIN:STANDARD
TZOFFSETFROM:-0500
TZOFFSETTO:-0600
TZNAME:CST
DTSTART:20211107T070000
END:STANDARD
END:VTIMEZONE
BEGIN:VEVENT
DTSTART;VALUE=DATE:20210915
DTEND;VALUE=DATE:20210916
DTSTAMP:20260422T165516
CREATED:20210624T195234Z
LAST-MODIFIED:20210624T195234Z
UID:22008-1631664000-1631750399@backend.fridrichandclark.com
SUMMARY:Sherry Stinson B'day
DESCRIPTION:
URL:https://backend.fridrichandclark.com/event/sherry-stinson-bday/2021-09-15/
CATEGORIES:Birthday
END:VEVENT
BEGIN:VEVENT
DTSTART;VALUE=DATE:20211017
DTEND;VALUE=DATE:20211018
DTSTAMP:20260422T165516
CREATED:20210527T175713Z
LAST-MODIFIED:20210527T175713Z
UID:21633-1634428800-1634515199@backend.fridrichandclark.com
SUMMARY:Julia Spickard's Bday
DESCRIPTION:
URL:https://backend.fridrichandclark.com/event/julia-spickards-bday/2021-10-17/
CATEGORIES:Birthday
END:VEVENT
BEGIN:VEVENT
DTSTART;VALUE=DATE:20211027
DTEND;VALUE=DATE:20211028
DTSTAMP:20260422T165516
CREATED:20210112T143131Z
LAST-MODIFIED:20210112T143131Z
UID:20102-1635292800-1635379199@backend.fridrichandclark.com
SUMMARY:Shelly Bearden Bday
DESCRIPTION:
URL:https://backend.fridrichandclark.com/event/shelly-bearden-bday/2021-10-27/
CATEGORIES:Birthday
END:VEVENT
BEGIN:VEVENT
DTSTART;TZID=America/Chicago:20211103T150000
DTEND;TZID=America/Chicago:20211103T170000
DTSTAMP:20260422T165516
CREATED:20201208T214433Z
LAST-MODIFIED:20211028T192431Z
UID:19806-1635951600-1635958800@backend.fridrichandclark.com
SUMMARY:Realities of Real Estate
DESCRIPTION:Weahter permitting – Gather at Emmy Squared – Green Hills \n  \nMore details to come from Courtney & Sean about this gathering. \nDesigned for new agents however open to all agents!
URL:https://backend.fridrichandclark.com/event/realities-of-real-estate-2-2021-10-18/
CATEGORIES:Training
END:VEVENT
BEGIN:VEVENT
DTSTART;TZID=America/Chicago:20211115T090000
DTEND;TZID=America/Chicago:20211115T220000
DTSTAMP:20260422T165516
CREATED:20201208T214433Z
LAST-MODIFIED:20211111T221516Z
UID:19807-1636966800-1637013600@backend.fridrichandclark.com
SUMMARY:Realities of Real Estate
DESCRIPTION:Designed for new agents however open to all agents! \nJoin Zoom Meeting\nhttps://us02web.zoom.us/j/73174441536?pwd=UmF4MmQ2MTFlWnhZd3ZBOGpGK3hxQT09 \nMeeting ID: 731 7444 1536\nPasscode: 079587
URL:https://backend.fridrichandclark.com/event/realities-of-real-estate-2-2021-10-18-2021-11-15/
CATEGORIES:Training
END:VEVENT
BEGIN:VEVENT
DTSTART;VALUE=DATE:20211123
DTEND;VALUE=DATE:20211124
DTSTAMP:20260422T165516
CREATED:20210112T165643Z
LAST-MODIFIED:20210112T165643Z
UID:20112-1637625600-1637711999@backend.fridrichandclark.com
SUMMARY:Megan Garrett Bday
DESCRIPTION:
URL:https://backend.fridrichandclark.com/event/megan-garrett-bday/2021-11-23/
CATEGORIES:Birthday
END:VEVENT
BEGIN:VEVENT
DTSTART;TZID=America/Chicago:20211207T150000
DTEND;TZID=America/Chicago:20211207T170000
DTSTAMP:20260422T165516
CREATED:20211111T173103Z
LAST-MODIFIED:20211111T173337Z
UID:23555-1638889200-1638896400@backend.fridrichandclark.com
SUMMARY:BEDFORD - A Redneck Christmas Vacation
DESCRIPTION:Krispy Kreme Donuts\, Krytals\, Ugly Sweater Contest and so much more…
URL:https://backend.fridrichandclark.com/event/bedford-a-redneck-christmas-vacation-party/
LOCATION:Green Hills Office\, 3825 Bedford Avenue\, Nashville\, TN\, 37215\, United States
CATEGORIES:Company Events
GEO:36.1074927;-86.8211913
X-APPLE-STRUCTURED-LOCATION;VALUE=URI;X-ADDRESS=Green Hills Office 3825 Bedford Avenue Nashville TN 37215 United States;X-APPLE-RADIUS=500;X-TITLE=3825 Bedford Avenue:geo:-86.8211913,36.1074927
END:VEVENT
BEGIN:VEVENT
DTSTART;TZID=America/Chicago:20211208T150000
DTEND;TZID=America/Chicago:20211208T170000
DTSTAMP:20260422T165516
CREATED:20211111T173151Z
LAST-MODIFIED:20211111T173307Z
UID:23559-1638975600-1638982800@backend.fridrichandclark.com
SUMMARY:BRENTWOOD - A Redneck Christmas Vacation
DESCRIPTION:Krispy Kreme Donuts\, Krytals\, Ugly Sweater Contest and so much more…
URL:https://backend.fridrichandclark.com/event/brentwood-a-redneck-christmas-vacation-party/
LOCATION:Brentwood Office\, 5200 Maryland Way Suite 101\, Brentwood\, TN\, 37027\, United States
CATEGORIES:Company Events
GEO:36.0357352;-86.8033277
X-APPLE-STRUCTURED-LOCATION;VALUE=URI;X-ADDRESS=Brentwood Office 5200 Maryland Way Suite 101 Brentwood TN 37027 United States;X-APPLE-RADIUS=500;X-TITLE=5200 Maryland Way Suite 101:geo:-86.8033277,36.0357352
END:VEVENT
END:VCALENDAR