BEGIN:VCALENDAR
VERSION:2.0
PRODID:-//Fridrich &amp; Clark - ECPv6.0.12//NONSGML v1.0//EN
CALSCALE:GREGORIAN
METHOD:PUBLISH
X-WR-CALNAME:Fridrich &amp; Clark
X-ORIGINAL-URL:https://backend.fridrichandclark.com
X-WR-CALDESC:Events for Fridrich &amp; Clark
REFRESH-INTERVAL;VALUE=DURATION:PT1H
X-Robots-Tag:noindex
X-PUBLISHED-TTL:PT1H
BEGIN:VTIMEZONE
TZID:America/New_York
BEGIN:DAYLIGHT
TZOFFSETFROM:-0500
TZOFFSETTO:-0400
TZNAME:EDT
DTSTART:20180311T070000
END:DAYLIGHT
BEGIN:STANDARD
TZOFFSETFROM:-0400
TZOFFSETTO:-0500
TZNAME:EST
DTSTART:20181104T060000
END:STANDARD
BEGIN:DAYLIGHT
TZOFFSETFROM:-0500
TZOFFSETTO:-0400
TZNAME:EDT
DTSTART:20190310T070000
END:DAYLIGHT
BEGIN:STANDARD
TZOFFSETFROM:-0400
TZOFFSETTO:-0500
TZNAME:EST
DTSTART:20191103T060000
END:STANDARD
END:VTIMEZONE
BEGIN:VEVENT
DTSTART;VALUE=DATE:20181213
DTEND;VALUE=DATE:20181214
DTSTAMP:20260421T181233
CREATED:20181031T204238Z
LAST-MODIFIED:20181031T204238Z
UID:11598-1544659200-1544745599@backend.fridrichandclark.com
SUMMARY:Shea Ghertner B'day
DESCRIPTION:
URL:https://backend.fridrichandclark.com/event/shea-ghertner-bday/2018-12-13/
CATEGORIES:Birthday
END:VEVENT
BEGIN:VEVENT
DTSTART;TZID=America/New_York:20181217T093000
DTEND;TZID=America/New_York:20181217T103000
DTSTAMP:20260421T181233
CREATED:20181204T202238Z
LAST-MODIFIED:20181204T202238Z
UID:11914-1545039000-1545042600@backend.fridrichandclark.com
SUMMARY:RARE Training - Hosted by Whit Clark
DESCRIPTION:Join Whit in the Fishbowl to learn more about the our new Market Report that is sent to you weekly.
URL:https://backend.fridrichandclark.com/event/rare-training-hosted-by-whit-clark/
CATEGORIES:Training
END:VEVENT
BEGIN:VEVENT
DTSTART;TZID=America/New_York:20181222T080000
DTEND;TZID=America/New_York:20181223T170000
DTSTAMP:20260421T181233
CREATED:20181204T202428Z
LAST-MODIFIED:20181204T202547Z
UID:11916-1545465600-1545584400@backend.fridrichandclark.com
SUMMARY:Christmas Holiday - Offices Will Be Closed
DESCRIPTION:
URL:https://backend.fridrichandclark.com/event/office-will-be-closed/
CATEGORIES:Company Events
END:VEVENT
BEGIN:VEVENT
DTSTART;VALUE=DATE:20181224
DTEND;VALUE=DATE:20181226
DTSTAMP:20260421T181233
CREATED:20171011T232728Z
LAST-MODIFIED:20171011T232728Z
UID:7595-1545609600-1545782399@backend.fridrichandclark.com
SUMMARY:Christmas Holiday - Offices are Closed
DESCRIPTION:
URL:https://backend.fridrichandclark.com/event/christmas-holiday-offices-are-closed-2/
END:VEVENT
BEGIN:VEVENT
DTSTART;VALUE=DATE:20190101
DTEND;VALUE=DATE:20190102
DTSTAMP:20260421T181233
CREATED:20181219T143400Z
LAST-MODIFIED:20181219T143400Z
UID:12191-1546300800-1546387199@backend.fridrichandclark.com
SUMMARY:Offices Closed in Observance of the Holiday
DESCRIPTION:
URL:https://backend.fridrichandclark.com/event/offices-closed-in-observance-of-the-holiday/
END:VEVENT
BEGIN:VEVENT
DTSTART;TZID=America/New_York:20190108T091500
DTEND;TZID=America/New_York:20190108T103000
DTSTAMP:20260421T181233
CREATED:20181219T135942Z
LAST-MODIFIED:20181219T135942Z
UID:12127-1546938900-1546943400@backend.fridrichandclark.com
SUMMARY:Bedford Office Sales Meeting
DESCRIPTION:Come hear Terri Ricks speak on Risk Management.
URL:https://backend.fridrichandclark.com/event/bedford-office-sales-meeting-3/
LOCATION:Green Hills Office\, 3825 Bedford Avenue\, Nashville\, TN\, 37215\, United States
CATEGORIES:Sales Meeting
GEO:36.1074927;-86.8211913
X-APPLE-STRUCTURED-LOCATION;VALUE=URI;X-ADDRESS=Green Hills Office 3825 Bedford Avenue Nashville TN 37215 United States;X-APPLE-RADIUS=500;X-TITLE=3825 Bedford Avenue:geo:-86.8211913,36.1074927
END:VEVENT
BEGIN:VEVENT
DTSTART;TZID=America/New_York:20190109T093000
DTEND;TZID=America/New_York:20190109T103000
DTSTAMP:20260421T181233
CREATED:20181226T193224Z
LAST-MODIFIED:20181226T193224Z
UID:12226-1547026200-1547029800@backend.fridrichandclark.com
SUMMARY:BW Williamson Co Tour
DESCRIPTION:
URL:https://backend.fridrichandclark.com/event/bw-williamson-co-tour-2/
CATEGORIES:Property Tours
END:VEVENT
BEGIN:VEVENT
DTSTART;VALUE=DATE:20190111
DTEND;VALUE=DATE:20190112
DTSTAMP:20260421T181233
CREATED:20180430T195809Z
LAST-MODIFIED:20200723T142903Z
UID:9636-1547164800-1547251199@backend.fridrichandclark.com
SUMMARY:Sally Reber bday
DESCRIPTION:
URL:https://backend.fridrichandclark.com/event/sally-reber-bday-2/2019-01-11/
END:VEVENT
BEGIN:VEVENT
DTSTART;TZID=America/New_York:20190115T093000
DTEND;TZID=America/New_York:20190115T103000
DTSTAMP:20260421T181233
CREATED:20181226T193354Z
LAST-MODIFIED:20181226T193354Z
UID:12228-1547544600-1547548200@backend.fridrichandclark.com
SUMMARY:BW Davidson Co Tour
DESCRIPTION:
URL:https://backend.fridrichandclark.com/event/bw-davidson-co-tour-2/
CATEGORIES:Property Tours
END:VEVENT
BEGIN:VEVENT
DTSTART;VALUE=DATE:20190121
DTEND;VALUE=DATE:20190122
DTSTAMP:20260421T181233
CREATED:20190114T234638Z
LAST-MODIFIED:20190114T234638Z
UID:12378-1548028800-1548115199@backend.fridrichandclark.com
SUMMARY:Stacey Michitti bday
DESCRIPTION:
URL:https://backend.fridrichandclark.com/event/stacey-michitti-bday/2019-01-21/
CATEGORIES:Birthday
END:VEVENT
BEGIN:VEVENT
DTSTART;TZID=America/New_York:20190121T093000
DTEND;TZID=America/New_York:20190121T223000
DTSTAMP:20260421T181233
CREATED:20181219T134443Z
LAST-MODIFIED:20190307T213544Z
UID:12079-1548063000-1548109800@backend.fridrichandclark.com
SUMMARY:Real Estate Review Training - Bedford Office
DESCRIPTION:
URL:https://backend.fridrichandclark.com/event/rare-training-hosted-by-whit-clark-2/
LOCATION:Green Hills Office\, 3825 Bedford Avenue\, Nashville\, TN\, 37215\, United States
CATEGORIES:Training
GEO:36.1074927;-86.8211913
X-APPLE-STRUCTURED-LOCATION;VALUE=URI;X-ADDRESS=Green Hills Office 3825 Bedford Avenue Nashville TN 37215 United States;X-APPLE-RADIUS=500;X-TITLE=3825 Bedford Avenue:geo:-86.8211913,36.1074927
END:VEVENT
BEGIN:VEVENT
DTSTART;TZID=America/New_York:20190122T090000
DTEND;TZID=America/New_York:20190125T110000
DTSTAMP:20260421T181233
CREATED:20181219T142103Z
LAST-MODIFIED:20181219T142103Z
UID:12189-1548147600-1548414000@backend.fridrichandclark.com
SUMMARY:2019 JUMPSTART TRAINING PROGRAM
DESCRIPTION:This training program is a great way to start 2019!  More details will be shared by Sean Simons but mark your calendar to attend these valuable sessions that will be held at the Brentwood Office. \n 
URL:https://backend.fridrichandclark.com/event/2019-jumpstart-training-program/
LOCATION:Brentwood Office\, 5200 Maryland Way Suite 101\, Brentwood\, TN\, 37027\, United States
CATEGORIES:Training
GEO:36.0357352;-86.8033277
X-APPLE-STRUCTURED-LOCATION;VALUE=URI;X-ADDRESS=Brentwood Office 5200 Maryland Way Suite 101 Brentwood TN 37027 United States;X-APPLE-RADIUS=500;X-TITLE=5200 Maryland Way Suite 101:geo:-86.8033277,36.0357352
END:VEVENT
END:VCALENDAR