BEGIN:VCALENDAR
VERSION:2.0
PRODID:-//Fridrich &amp; Clark - ECPv6.0.12//NONSGML v1.0//EN
CALSCALE:GREGORIAN
METHOD:PUBLISH
X-WR-CALNAME:Fridrich &amp; Clark
X-ORIGINAL-URL:https://backend.fridrichandclark.com
X-WR-CALDESC:Events for Fridrich &amp; Clark
REFRESH-INTERVAL;VALUE=DURATION:PT1H
X-Robots-Tag:noindex
X-PUBLISHED-TTL:PT1H
BEGIN:VTIMEZONE
TZID:America/New_York
BEGIN:DAYLIGHT
TZOFFSETFROM:-0500
TZOFFSETTO:-0400
TZNAME:EDT
DTSTART:20180311T070000
END:DAYLIGHT
BEGIN:STANDARD
TZOFFSETFROM:-0400
TZOFFSETTO:-0500
TZNAME:EST
DTSTART:20181104T060000
END:STANDARD
TZID:America/Indiana/Indianapolis
BEGIN:DAYLIGHT
TZOFFSETFROM:-0500
TZOFFSETTO:-0400
TZNAME:EDT
DTSTART:20180311T070000
END:DAYLIGHT
BEGIN:STANDARD
TZOFFSETFROM:-0400
TZOFFSETTO:-0500
TZNAME:EST
DTSTART:20181104T060000
END:STANDARD
END:VTIMEZONE
BEGIN:VEVENT
DTSTART;TZID=America/New_York:20181002T091500
DTEND;TZID=America/New_York:20181002T103000
DTSTAMP:20260421T172530
CREATED:20171214T151044Z
LAST-MODIFIED:20180920T182521Z
UID:8762-1538471700-1538476200@backend.fridrichandclark.com
SUMMARY:Bedford Sales Meeting Cancelled
DESCRIPTION:
URL:https://backend.fridrichandclark.com/event/bedford-sales-meeting-5-2018-10-02/
CATEGORIES:Sales Meeting
END:VEVENT
BEGIN:VEVENT
DTSTART;TZID=America/New_York:20181018T093000
DTEND;TZID=America/New_York:20181018T103000
DTSTAMP:20260421T172530
CREATED:20180103T221433Z
LAST-MODIFIED:20180103T221510Z
UID:8355-1539855000-1539858600@backend.fridrichandclark.com
SUMMARY:Relocation Training
DESCRIPTION:Topic To Be Determined
URL:https://backend.fridrichandclark.com/event/relocation-training-3/
LOCATION:Green Hills Office\, 3825 Bedford Avenue\, Nashville\, TN\, 37215\, United States
CATEGORIES:Relocation,Training
GEO:36.1074927;-86.8211913
X-APPLE-STRUCTURED-LOCATION;VALUE=URI;X-ADDRESS=Green Hills Office 3825 Bedford Avenue Nashville TN 37215 United States;X-APPLE-RADIUS=500;X-TITLE=3825 Bedford Avenue:geo:-86.8211913,36.1074927
END:VEVENT
BEGIN:VEVENT
DTSTART;TZID=America/New_York:20181024T091500
DTEND;TZID=America/New_York:20181024T103000
DTSTAMP:20260421T172530
CREATED:20180920T182422Z
LAST-MODIFIED:20181010T201543Z
UID:11112-1540372500-1540377000@backend.fridrichandclark.com
SUMMARY:Joint Sales Meeting - Karl Dean
DESCRIPTION:
URL:https://backend.fridrichandclark.com/event/joint-sales-meeting/
LOCATION:Green Hills Office\, 3825 Bedford Avenue\, Nashville\, TN\, 37215\, United States
CATEGORIES:Company Events
GEO:36.1074927;-86.8211913
X-APPLE-STRUCTURED-LOCATION;VALUE=URI;X-ADDRESS=Green Hills Office 3825 Bedford Avenue Nashville TN 37215 United States;X-APPLE-RADIUS=500;X-TITLE=3825 Bedford Avenue:geo:-86.8211913,36.1074927
END:VEVENT
BEGIN:VEVENT
DTSTART;VALUE=DATE:20181103
DTEND;VALUE=DATE:20181104
DTSTAMP:20260421T172530
CREATED:20180627T172901Z
LAST-MODIFIED:20180627T172901Z
UID:10316-1541203200-1541289599@backend.fridrichandclark.com
SUMMARY:Tina Halstead bday
DESCRIPTION:
URL:https://backend.fridrichandclark.com/event/tina-halstead-bday/2018-11-03/
CATEGORIES:Birthday
END:VEVENT
BEGIN:VEVENT
DTSTART;TZID=America/New_York:20181112T093000
DTEND;TZID=America/New_York:20181112T103000
DTSTAMP:20260421T172530
CREATED:20171214T151317Z
LAST-MODIFIED:20181108T173959Z
UID:8239-1542015000-1542018600@backend.fridrichandclark.com
SUMMARY:RARE Training – Hosted by Whit Clark – Bedford Office
DESCRIPTION:
URL:https://backend.fridrichandclark.com/event/rare-training-hosted-by-whit-clark-bedford-office-2/
CATEGORIES:Training
END:VEVENT
BEGIN:VEVENT
DTSTART;VALUE=DATE:20181120
DTEND;VALUE=DATE:20181121
DTSTAMP:20260421T172530
CREATED:20180619T172022Z
LAST-MODIFIED:20180619T172022Z
UID:10245-1542672000-1542758399@backend.fridrichandclark.com
SUMMARY:Trisha Selph bday
DESCRIPTION:
URL:https://backend.fridrichandclark.com/event/trisha-selph-bday/2018-11-20/
END:VEVENT
BEGIN:VEVENT
DTSTART;VALUE=DATE:20181122
DTEND;VALUE=DATE:20181124
DTSTAMP:20260421T172530
CREATED:20171011T232645Z
LAST-MODIFIED:20171011T232645Z
UID:7593-1542844800-1543017599@backend.fridrichandclark.com
SUMMARY:Thanksgiving - Offices Are Closed
DESCRIPTION:
URL:https://backend.fridrichandclark.com/event/thanksgiving-offices-are-closed/
END:VEVENT
BEGIN:VEVENT
DTSTART;TZID=America/Indiana/Indianapolis:20181127T093000
DTEND;TZID=America/Indiana/Indianapolis:20181127T110000
DTSTAMP:20260421T172530
CREATED:20170209T144804Z
LAST-MODIFIED:20180613T174230Z
UID:7568-1543311000-1543316400@backend.fridrichandclark.com
SUMMARY:Brentwood Real Estate Review - Hosted by Sean Simons - Brentwood Office
DESCRIPTION:
URL:https://backend.fridrichandclark.com/event/realities-of-real-estate-hosted-by-sean-simons-brentwood-office-2017-12-25-2018-11-26/
CATEGORIES:Training
END:VEVENT
BEGIN:VEVENT
DTSTART;VALUE=DATE:20181129
DTEND;VALUE=DATE:20181130
DTSTAMP:20260421T172530
CREATED:20181031T204102Z
LAST-MODIFIED:20181031T204102Z
UID:11594-1543449600-1543535999@backend.fridrichandclark.com
SUMMARY:Whitney Musser B'day
DESCRIPTION:
URL:https://backend.fridrichandclark.com/event/whitney-musser-bday/2018-11-29/
CATEGORIES:Birthday
END:VEVENT
BEGIN:VEVENT
DTSTART;TZID=America/New_York:20181205T180000
DTEND;TZID=America/New_York:20181205T200000
DTSTAMP:20260421T172530
CREATED:20171214T152305Z
LAST-MODIFIED:20171214T152305Z
UID:8243-1544032800-1544040000@backend.fridrichandclark.com
SUMMARY:Company Christmas Party
DESCRIPTION:Richland Country Club \n 
URL:https://backend.fridrichandclark.com/event/company-christmas-party/
CATEGORIES:Company Events
END:VEVENT
BEGIN:VEVENT
DTSTART;VALUE=DATE:20181213
DTEND;VALUE=DATE:20181214
DTSTAMP:20260421T172530
CREATED:20181031T204238Z
LAST-MODIFIED:20181031T204238Z
UID:11598-1544659200-1544745599@backend.fridrichandclark.com
SUMMARY:Shea Ghertner B'day
DESCRIPTION:
URL:https://backend.fridrichandclark.com/event/shea-ghertner-bday/2018-12-13/
CATEGORIES:Birthday
END:VEVENT
BEGIN:VEVENT
DTSTART;TZID=America/New_York:20181217T093000
DTEND;TZID=America/New_York:20181217T103000
DTSTAMP:20260421T172530
CREATED:20181204T202238Z
LAST-MODIFIED:20181204T202238Z
UID:11914-1545039000-1545042600@backend.fridrichandclark.com
SUMMARY:RARE Training - Hosted by Whit Clark
DESCRIPTION:Join Whit in the Fishbowl to learn more about the our new Market Report that is sent to you weekly.
URL:https://backend.fridrichandclark.com/event/rare-training-hosted-by-whit-clark/
CATEGORIES:Training
END:VEVENT
BEGIN:VEVENT
DTSTART;TZID=America/New_York:20181222T080000
DTEND;TZID=America/New_York:20181223T170000
DTSTAMP:20260421T172530
CREATED:20181204T202428Z
LAST-MODIFIED:20181204T202547Z
UID:11916-1545465600-1545584400@backend.fridrichandclark.com
SUMMARY:Christmas Holiday - Offices Will Be Closed
DESCRIPTION:
URL:https://backend.fridrichandclark.com/event/office-will-be-closed/
CATEGORIES:Company Events
END:VEVENT
END:VCALENDAR