BEGIN:VCALENDAR
VERSION:2.0
PRODID:-//Fridrich &amp; Clark - ECPv6.0.12//NONSGML v1.0//EN
CALSCALE:GREGORIAN
METHOD:PUBLISH
X-WR-CALNAME:Fridrich &amp; Clark
X-ORIGINAL-URL:https://backend.fridrichandclark.com
X-WR-CALDESC:Events for Fridrich &amp; Clark
REFRESH-INTERVAL;VALUE=DURATION:PT1H
X-Robots-Tag:noindex
X-PUBLISHED-TTL:PT1H
BEGIN:VTIMEZONE
TZID:America/New_York
BEGIN:DAYLIGHT
TZOFFSETFROM:-0500
TZOFFSETTO:-0400
TZNAME:EDT
DTSTART:20180311T070000
END:DAYLIGHT
BEGIN:STANDARD
TZOFFSETFROM:-0400
TZOFFSETTO:-0500
TZNAME:EST
DTSTART:20181104T060000
END:STANDARD
TZID:America/Indiana/Indianapolis
BEGIN:DAYLIGHT
TZOFFSETFROM:-0500
TZOFFSETTO:-0400
TZNAME:EDT
DTSTART:20180311T070000
END:DAYLIGHT
BEGIN:STANDARD
TZOFFSETFROM:-0400
TZOFFSETTO:-0500
TZNAME:EST
DTSTART:20181104T060000
END:STANDARD
END:VTIMEZONE
BEGIN:VEVENT
DTSTART;VALUE=DATE:20180602
DTEND;VALUE=DATE:20180603
DTSTAMP:20260420T181808
CREATED:20170815T162502Z
LAST-MODIFIED:20180531T154959Z
UID:6756-1527897600-1527983999@backend.fridrichandclark.com
SUMMARY:Brooks Brown Bday
DESCRIPTION:
URL:https://backend.fridrichandclark.com/event/brooks-brown-bday/2018-06-02/
LOCATION:TN
END:VEVENT
BEGIN:VEVENT
DTSTART;VALUE=DATE:20180605
DTEND;VALUE=DATE:20180606
DTSTAMP:20260420T181808
CREATED:20180606T134802Z
LAST-MODIFIED:20200520T224422Z
UID:10086-1528156800-1528243199@backend.fridrichandclark.com
SUMMARY:Rachel Kramer Cothern Bday
DESCRIPTION:
URL:https://backend.fridrichandclark.com/event/rachel-kramer-bday/2018-06-05/
LOCATION:TN
CATEGORIES:Birthday
END:VEVENT
BEGIN:VEVENT
DTSTART;TZID=America/New_York:20180605T113000
DTEND;TZID=America/New_York:20180605T130000
DTSTAMP:20260420T181808
CREATED:20180530T134320Z
LAST-MODIFIED:20180530T192325Z
UID:9979-1528198200-1528203600@backend.fridrichandclark.com
SUMMARY:Luncheon - 5061 Hill Place 11:00 to 1:30
DESCRIPTION:Please join Courtney Jenrath for her Realtor Luncheon at 5016 Hill Place from 11:00 – 1:30.
URL:https://backend.fridrichandclark.com/event/luncheon-5061-hill-place/
LOCATION:TN
CATEGORIES:Broker Open House
END:VEVENT
BEGIN:VEVENT
DTSTART;TZID=America/Indiana/Indianapolis:20180626T093000
DTEND;TZID=America/Indiana/Indianapolis:20180626T110000
DTSTAMP:20260420T181808
CREATED:20170209T144804Z
LAST-MODIFIED:20180620T180232Z
UID:7563-1530005400-1530010800@backend.fridrichandclark.com
SUMMARY:Brentwood Real Estate Review - Hosted by Sean Simons - Brentwood Office
DESCRIPTION:Topic is 10 Systems to Support & Grow Your Real Estate Business
URL:https://backend.fridrichandclark.com/event/realities-of-real-estate-hosted-by-sean-simons-brentwood-office-2017-12-25-2018-06-25/
LOCATION:TN
CATEGORIES:Training
END:VEVENT
BEGIN:VEVENT
DTSTART;TZID=America/New_York:20180628T090000
DTEND;TZID=America/New_York:20180628T130000
DTSTAMP:20260420T181808
CREATED:20180613T175533Z
LAST-MODIFIED:20180613T175533Z
UID:10188-1530176400-1530190800@backend.fridrichandclark.com
SUMMARY:FC Company Shred Day
DESCRIPTION:Located in the Bedford Office Parking lot! \nInvite your clients to join! \n  \n 
URL:https://backend.fridrichandclark.com/event/fc-company-shred-day/
LOCATION:Green Hills Office\, 3825 Bedford Avenue\, Nashville\, TN\, 37215\, United States
GEO:36.1074927;-86.8211913
X-APPLE-STRUCTURED-LOCATION;VALUE=URI;X-ADDRESS=Green Hills Office 3825 Bedford Avenue Nashville TN 37215 United States;X-APPLE-RADIUS=500;X-TITLE=3825 Bedford Avenue:geo:-86.8211913,36.1074927
END:VEVENT
BEGIN:VEVENT
DTSTART;VALUE=DATE:20180704
DTEND;VALUE=DATE:20180705
DTSTAMP:20260420T181808
CREATED:20171011T233057Z
LAST-MODIFIED:20171011T233057Z
UID:7597-1530662400-1530748799@backend.fridrichandclark.com
SUMMARY:Independence Day - Offices Are Closed
DESCRIPTION:
URL:https://backend.fridrichandclark.com/event/independence-day-offices-are-closed/2018-07-04/
LOCATION:TN
END:VEVENT
BEGIN:VEVENT
DTSTART;TZID=America/New_York:20180710T093000
DTEND;TZID=America/New_York:20180710T103000
DTSTAMP:20260420T181808
CREATED:20171207T163307Z
LAST-MODIFIED:20171207T165747Z
UID:8086-1531215000-1531218600@backend.fridrichandclark.com
SUMMARY:BW Williamson Co Tour
DESCRIPTION:
URL:https://backend.fridrichandclark.com/event/bw-williamson-co-tour-2018-07-03/
LOCATION:TN
CATEGORIES:Property Tours
END:VEVENT
BEGIN:VEVENT
DTSTART;TZID=America/New_York:20180712T093000
DTEND;TZID=America/New_York:20180712T103000
DTSTAMP:20260420T181808
CREATED:20180103T221337Z
LAST-MODIFIED:20180611T185757Z
UID:8353-1531387800-1531391400@backend.fridrichandclark.com
SUMMARY:Relocation Training - Canceled
DESCRIPTION:This training will be rescheduled at a later time. \n  \nRelocating Millennials – panel discussion
URL:https://backend.fridrichandclark.com/event/relocation-training-2/
LOCATION:Brentwood Office\, 5200 Maryland Way Suite 101\, Brentwood\, TN\, 37027\, United States
CATEGORIES:Relocation,Training
GEO:36.0357352;-86.8033277
X-APPLE-STRUCTURED-LOCATION;VALUE=URI;X-ADDRESS=Brentwood Office 5200 Maryland Way Suite 101 Brentwood TN 37027 United States;X-APPLE-RADIUS=500;X-TITLE=5200 Maryland Way Suite 101:geo:-86.8033277,36.0357352
END:VEVENT
BEGIN:VEVENT
DTSTART;TZID=America/Indiana/Indianapolis:20180716T093000
DTEND;TZID=America/Indiana/Indianapolis:20180716T103000
DTSTAMP:20260420T181808
CREATED:20170209T144700Z
LAST-MODIFIED:20180628T175722Z
UID:7552-1531733400-1531737000@backend.fridrichandclark.com
SUMMARY:Canceled -RARE Training - Hosted by Whit Clark - Bedford Office
DESCRIPTION:Please note this session has been canceled.   Mark your calendar for the next class on August 20th.
URL:https://backend.fridrichandclark.com/event/rare-training-hosted-by-whit-clark-bedford-office-2018-07-16/
LOCATION:TN
CATEGORIES:Training
END:VEVENT
BEGIN:VEVENT
DTSTART;TZID=America/New_York:20180717T091500
DTEND;TZID=America/New_York:20180717T103000
DTSTAMP:20260420T181808
CREATED:20171214T145715Z
LAST-MODIFIED:20180709T145859Z
UID:8760-1531818900-1531823400@backend.fridrichandclark.com
SUMMARY:Bedford Sales Meeting rescheduled to 24th
DESCRIPTION:
URL:https://backend.fridrichandclark.com/event/bedford-sales-meeting-3-2018-07-17/
LOCATION:TN
CATEGORIES:Sales Meeting
END:VEVENT
BEGIN:VEVENT
DTSTART;TZID=America/New_York:20180717T093000
DTEND;TZID=America/New_York:20180717T093000
DTSTAMP:20260420T181808
CREATED:20171207T173219Z
LAST-MODIFIED:20180716T164857Z
UID:8112-1531819800-1531819800@backend.fridrichandclark.com
SUMMARY:BW Sales Meeting-Wire Fraud
DESCRIPTION:
URL:https://backend.fridrichandclark.com/event/bw-sales-meeting-2018-07-10/
LOCATION:TN
END:VEVENT
BEGIN:VEVENT
DTSTART;TZID=America/New_York:20180724T091500
DTEND;TZID=America/New_York:20180724T103000
DTSTAMP:20260420T181808
CREATED:20180709T145736Z
LAST-MODIFIED:20180709T145736Z
UID:10414-1532423700-1532428200@backend.fridrichandclark.com
SUMMARY:Bedford Sales Meeting
DESCRIPTION:The sales meeting was moved from July 17th to July 24th.
URL:https://backend.fridrichandclark.com/event/bedford-sales-meeting-6/
LOCATION:TN
CATEGORIES:Sales Meeting
END:VEVENT
BEGIN:VEVENT
DTSTART;TZID=America/New_York:20180724T093000
DTEND;TZID=America/New_York:20180724T103000
DTSTAMP:20260420T181808
CREATED:20171207T201814Z
LAST-MODIFIED:20171207T202748Z
UID:8125-1532424600-1532428200@backend.fridrichandclark.com
SUMMARY:BW Davidson Co Tour
DESCRIPTION:
URL:https://backend.fridrichandclark.com/event/bw-davidson-co-tour-2018-07-17/
LOCATION:TN
END:VEVENT
END:VCALENDAR