BEGIN:VCALENDAR
VERSION:2.0
PRODID:-//Fridrich &amp; Clark - ECPv6.0.12//NONSGML v1.0//EN
CALSCALE:GREGORIAN
METHOD:PUBLISH
X-WR-CALNAME:Fridrich &amp; Clark
X-ORIGINAL-URL:https://backend.fridrichandclark.com
X-WR-CALDESC:Events for Fridrich &amp; Clark
REFRESH-INTERVAL;VALUE=DURATION:PT1H
X-Robots-Tag:noindex
X-PUBLISHED-TTL:PT1H
BEGIN:VTIMEZONE
TZID:America/New_York
BEGIN:DAYLIGHT
TZOFFSETFROM:-0500
TZOFFSETTO:-0400
TZNAME:EDT
DTSTART:20180311T070000
END:DAYLIGHT
BEGIN:STANDARD
TZOFFSETFROM:-0400
TZOFFSETTO:-0500
TZNAME:EST
DTSTART:20181104T060000
END:STANDARD
TZID:America/Indiana/Indianapolis
BEGIN:DAYLIGHT
TZOFFSETFROM:-0500
TZOFFSETTO:-0400
TZNAME:EDT
DTSTART:20180311T070000
END:DAYLIGHT
BEGIN:STANDARD
TZOFFSETFROM:-0400
TZOFFSETTO:-0500
TZNAME:EST
DTSTART:20181104T060000
END:STANDARD
END:VTIMEZONE
BEGIN:VEVENT
DTSTART;VALUE=DATE:20180401
DTEND;VALUE=DATE:20180402
DTSTAMP:20260420T162700
CREATED:20171011T232532Z
LAST-MODIFIED:20171011T232532Z
UID:7589-1522540800-1522627199@backend.fridrichandclark.com
SUMMARY:Easter - Offices Are Closed
DESCRIPTION:
URL:https://backend.fridrichandclark.com/event/easter-offices-are-closed-2/
END:VEVENT
BEGIN:VEVENT
DTSTART;TZID=America/New_York:20180409T093000
DTEND;TZID=America/New_York:20180409T103000
DTSTAMP:20260420T162700
CREATED:20171207T173219Z
LAST-MODIFIED:20180329T203900Z
UID:8130-1523266200-1523269800@backend.fridrichandclark.com
SUMMARY:BW Sales Meeting
DESCRIPTION:
URL:https://backend.fridrichandclark.com/event/bw-sales-meeting-2018-04-10/
END:VEVENT
BEGIN:VEVENT
DTSTART;TZID=America/New_York:20180417T091500
DTEND;TZID=America/New_York:20180417T103000
DTSTAMP:20260420T162700
CREATED:20171214T145715Z
LAST-MODIFIED:20180206T142929Z
UID:8215-1523956500-1523961000@backend.fridrichandclark.com
SUMMARY:Bedford Sales Meeting
DESCRIPTION:
URL:https://backend.fridrichandclark.com/event/bedford-sales-meeting-3/2018-04-17/
CATEGORIES:Sales Meeting
END:VEVENT
BEGIN:VEVENT
DTSTART;TZID=America/New_York:20180417T110000
DTEND;TZID=America/New_York:20180417T140000
DTSTAMP:20260420T162700
CREATED:20180416T143932Z
LAST-MODIFIED:20180416T143932Z
UID:9465-1523962800-1523973600@backend.fridrichandclark.com
SUMMARY:Witherspoon Realtor Luncheon
DESCRIPTION:Please join us at the Witherspoon Clubhouse! \n$500 donation to charity of choice for the office with most attendance! \nGift card give-a-ways from Witherspoon Home Builders!
URL:https://backend.fridrichandclark.com/event/witherspoon-realtor-luncheon/
LOCATION:Witherspoon Brentwood\, 1469 Witherspoon Dr\, Brentwood\, TN\, 37027\, United States
ORGANIZER;CN="Mary%20Kocina":MAILTO:mkocina@comcast.net
GEO:35.9768996;-86.7627726
X-APPLE-STRUCTURED-LOCATION;VALUE=URI;X-ADDRESS=Witherspoon Brentwood 1469 Witherspoon Dr Brentwood TN 37027 United States;X-APPLE-RADIUS=500;X-TITLE=1469 Witherspoon Dr:geo:-86.7627726,35.9768996
END:VEVENT
BEGIN:VEVENT
DTSTART;TZID=America/Indiana/Indianapolis:20180423T093000
DTEND;TZID=America/Indiana/Indianapolis:20180423T110000
DTSTAMP:20260420T162700
CREATED:20170209T144804Z
LAST-MODIFIED:20180220T162358Z
UID:7561-1524475800-1524481200@backend.fridrichandclark.com
SUMMARY:Realities of Real Estate - Hosted by Sean Simons - Brentwood Office
DESCRIPTION:
URL:https://backend.fridrichandclark.com/event/realities-of-real-estate-hosted-by-sean-simons-brentwood-office-2017-12-25-2018-04-23/
CATEGORIES:Training
END:VEVENT
BEGIN:VEVENT
DTSTART;VALUE=DATE:20180425
DTEND;VALUE=DATE:20180426
DTSTAMP:20260420T162700
CREATED:20180410T163246Z
LAST-MODIFIED:20180410T163302Z
UID:9416-1524614400-1524700799@backend.fridrichandclark.com
SUMMARY:Administrative Professionals Day
DESCRIPTION:
URL:https://backend.fridrichandclark.com/event/administrative-professionals-day/
CATEGORIES:Company Events
END:VEVENT
BEGIN:VEVENT
DTSTART;TZID=America/New_York:20180426T093000
DTEND;TZID=America/New_York:20180426T103000
DTSTAMP:20260420T162700
CREATED:20180103T221243Z
LAST-MODIFIED:20180315T154657Z
UID:8351-1524735000-1524738600@backend.fridrichandclark.com
SUMMARY:Relocation Training
DESCRIPTION:ERC/BMA class with an appraiser as a guest speaker
URL:https://backend.fridrichandclark.com/event/relocation-training/
LOCATION:Green Hills Office\, 3825 Bedford Avenue\, Nashville\, TN\, 37215\, United States
CATEGORIES:Relocation,Training
GEO:36.1074927;-86.8211913
X-APPLE-STRUCTURED-LOCATION;VALUE=URI;X-ADDRESS=Green Hills Office 3825 Bedford Avenue Nashville TN 37215 United States;X-APPLE-RADIUS=500;X-TITLE=3825 Bedford Avenue:geo:-86.8211913,36.1074927
END:VEVENT
BEGIN:VEVENT
DTSTART;TZID=America/New_York:20180515T091500
DTEND;TZID=America/New_York:20180515T103000
DTSTAMP:20260420T162700
CREATED:20171214T145715Z
LAST-MODIFIED:20180509T142010Z
UID:8758-1526375700-1526380200@backend.fridrichandclark.com
SUMMARY:Joint Sales Meeting at Bedford
DESCRIPTION:Courtney Ross\, Economic Development director for the Nashville Area Chamber of Commerce\, will share stats and data on the vibrant economy we enjoy in Nashville. \nPlease make every effort to attend.
URL:https://backend.fridrichandclark.com/event/bedford-sales-meeting-3-2018-05-15/
LOCATION:Green Hills Office\, 3825 Bedford Avenue\, Nashville\, TN\, 37215\, United States
CATEGORIES:Sales Meeting
GEO:36.1074927;-86.8211913
X-APPLE-STRUCTURED-LOCATION;VALUE=URI;X-ADDRESS=Green Hills Office 3825 Bedford Avenue Nashville TN 37215 United States;X-APPLE-RADIUS=500;X-TITLE=3825 Bedford Avenue:geo:-86.8211913,36.1074927
END:VEVENT
BEGIN:VEVENT
DTSTART;TZID=America/New_York:20180517T100000
DTEND;TZID=America/New_York:20180517T130000
DTSTAMP:20260420T162700
CREATED:20180416T231337Z
LAST-MODIFIED:20180416T231337Z
UID:9481-1526551200-1526562000@backend.fridrichandclark.com
SUMMARY:Room in the Inn - Feeding the Homeless
DESCRIPTION:Fridrich and Clark Agents will be feeding 250 homeless men and women. Cooks arrive at 10am. Servers arrive by 11:15am. We will be done no later than 1pm. There is no clean up! If you can not attend we also need donations. The lunch costs $600-$750. All size donations are accepted. Make your check out to Fridrich and Clark with Homeless in the memo and give it to Eric Grasman\, Brentwood Front Desk or Peggy Phillips. Cash is fine too. Any overage will go to the next feeding. Thank you!
URL:https://backend.fridrichandclark.com/event/room-in-the-inn-feeding-the-homeless-2/
LOCATION:Room In The Inn\, 705 Drexel St\, Nashville\, TN\, 37203\, United States
GEO:36.1520238;-86.7786527
X-APPLE-STRUCTURED-LOCATION;VALUE=URI;X-ADDRESS=Room In The Inn 705 Drexel St Nashville TN 37203 United States;X-APPLE-RADIUS=500;X-TITLE=705 Drexel St:geo:-86.7786527,36.1520238
END:VEVENT
BEGIN:VEVENT
DTSTART;VALUE=DATE:20180528
DTEND;VALUE=DATE:20180529
DTSTAMP:20260420T162700
CREATED:20171011T231951Z
LAST-MODIFIED:20171011T231951Z
UID:7583-1527465600-1527551999@backend.fridrichandclark.com
SUMMARY:Memorial Day - Offices Are Closed
DESCRIPTION:
URL:https://backend.fridrichandclark.com/event/memorial-day-offices-are-closed-2/
END:VEVENT
BEGIN:VEVENT
DTSTART;VALUE=DATE:20180602
DTEND;VALUE=DATE:20180603
DTSTAMP:20260420T162700
CREATED:20170815T162502Z
LAST-MODIFIED:20180531T154959Z
UID:6756-1527897600-1527983999@backend.fridrichandclark.com
SUMMARY:Brooks Brown Bday
DESCRIPTION:
URL:https://backend.fridrichandclark.com/event/brooks-brown-bday/2018-06-02/
END:VEVENT
BEGIN:VEVENT
DTSTART;VALUE=DATE:20180605
DTEND;VALUE=DATE:20180606
DTSTAMP:20260420T162700
CREATED:20180606T134802Z
LAST-MODIFIED:20200520T224422Z
UID:10086-1528156800-1528243199@backend.fridrichandclark.com
SUMMARY:Rachel Kramer Cothern Bday
DESCRIPTION:
URL:https://backend.fridrichandclark.com/event/rachel-kramer-bday/2018-06-05/
CATEGORIES:Birthday
END:VEVENT
BEGIN:VEVENT
DTSTART;TZID=America/New_York:20180605T113000
DTEND;TZID=America/New_York:20180605T130000
DTSTAMP:20260420T162700
CREATED:20180530T134320Z
LAST-MODIFIED:20180530T192325Z
UID:9979-1528198200-1528203600@backend.fridrichandclark.com
SUMMARY:Luncheon - 5061 Hill Place 11:00 to 1:30
DESCRIPTION:Please join Courtney Jenrath for her Realtor Luncheon at 5016 Hill Place from 11:00 – 1:30.
URL:https://backend.fridrichandclark.com/event/luncheon-5061-hill-place/
CATEGORIES:Broker Open House
END:VEVENT
BEGIN:VEVENT
DTSTART;TZID=America/Indiana/Indianapolis:20180626T093000
DTEND;TZID=America/Indiana/Indianapolis:20180626T110000
DTSTAMP:20260420T162700
CREATED:20170209T144804Z
LAST-MODIFIED:20180620T180232Z
UID:7563-1530005400-1530010800@backend.fridrichandclark.com
SUMMARY:Brentwood Real Estate Review - Hosted by Sean Simons - Brentwood Office
DESCRIPTION:Topic is 10 Systems to Support & Grow Your Real Estate Business
URL:https://backend.fridrichandclark.com/event/realities-of-real-estate-hosted-by-sean-simons-brentwood-office-2017-12-25-2018-06-25/
CATEGORIES:Training
END:VEVENT
END:VCALENDAR