BEGIN:VCALENDAR
VERSION:2.0
PRODID:-//Fridrich &amp; Clark - ECPv6.0.12//NONSGML v1.0//EN
CALSCALE:GREGORIAN
METHOD:PUBLISH
X-WR-CALNAME:Fridrich &amp; Clark
X-ORIGINAL-URL:https://backend.fridrichandclark.com
X-WR-CALDESC:Events for Fridrich &amp; Clark
REFRESH-INTERVAL;VALUE=DURATION:PT1H
X-Robots-Tag:noindex
X-PUBLISHED-TTL:PT1H
BEGIN:VTIMEZONE
TZID:America/Indiana/Indianapolis
BEGIN:DAYLIGHT
TZOFFSETFROM:-0500
TZOFFSETTO:-0400
TZNAME:EDT
DTSTART:20180311T070000
END:DAYLIGHT
BEGIN:STANDARD
TZOFFSETFROM:-0400
TZOFFSETTO:-0500
TZNAME:EST
DTSTART:20181104T060000
END:STANDARD
TZID:America/New_York
BEGIN:DAYLIGHT
TZOFFSETFROM:-0500
TZOFFSETTO:-0400
TZNAME:EDT
DTSTART:20180311T070000
END:DAYLIGHT
BEGIN:STANDARD
TZOFFSETFROM:-0400
TZOFFSETTO:-0500
TZNAME:EST
DTSTART:20181104T060000
END:STANDARD
END:VTIMEZONE
BEGIN:VEVENT
DTSTART;VALUE=DATE:20180305
DTEND;VALUE=DATE:20180306
DTSTAMP:20260420T105740
CREATED:20170309T205611Z
LAST-MODIFIED:20170503T164251Z
UID:4123-1520208000-1520294399@backend.fridrichandclark.com
SUMMARY:Karen Moore bday
DESCRIPTION:
URL:https://backend.fridrichandclark.com/event/karen-moore-bday/2018-03-05/
LOCATION:TN
CATEGORIES:Birthday
END:VEVENT
BEGIN:VEVENT
DTSTART;VALUE=DATE:20180309
DTEND;VALUE=DATE:20180310
DTSTAMP:20260420T105740
CREATED:20171013T163807Z
LAST-MODIFIED:20180531T162031Z
UID:7619-1520553600-1520639999@backend.fridrichandclark.com
SUMMARY:Pamela Cmelak B'day
DESCRIPTION:
URL:https://backend.fridrichandclark.com/event/pamela-cmelak-bday/2018-03-09/
LOCATION:TN
CATEGORIES:Birthday
END:VEVENT
BEGIN:VEVENT
DTSTART;VALUE=DATE:20180310
DTEND;VALUE=DATE:20180311
DTSTAMP:20260420T105740
CREATED:20170814T162205Z
LAST-MODIFIED:20170814T162205Z
UID:6740-1520640000-1520640000@backend.fridrichandclark.com
SUMMARY:Greater Nashville Realtors Awards of Excellence
DESCRIPTION:Members who excel in annual sales while being involved in the association are recognized for their achievement and honored at our annual awards banquet. Mark your calendars now for the  2017 Awards of Excellence Gala\, which be held on Saturday\, March 10\, 2018\, at the Omni Nashville Hotel. \nhttp://www.gnar.org/special-events/awards
URL:https://backend.fridrichandclark.com/event/greater-nashville-realtors-awards-of-excellence/
LOCATION:TN
CATEGORIES:Company Events
END:VEVENT
BEGIN:VEVENT
DTSTART;VALUE=DATE:20180312
DTEND;VALUE=DATE:20180313
DTSTAMP:20260420T105740
CREATED:20170309T205642Z
LAST-MODIFIED:20170330T161035Z
UID:4125-1520812800-1520899199@backend.fridrichandclark.com
SUMMARY:Rita Puryear bday
DESCRIPTION:
URL:https://backend.fridrichandclark.com/event/rita-puryear-bday/2018-03-12/
LOCATION:TN
CATEGORIES:Birthday
END:VEVENT
BEGIN:VEVENT
DTSTART;TZID=America/New_York:20180313T093000
DTEND;TZID=America/New_York:20180313T103000
DTSTAMP:20260420T105740
CREATED:20171207T173219Z
LAST-MODIFIED:20180131T210647Z
UID:8129-1520933400-1520937000@backend.fridrichandclark.com
SUMMARY:BW Sales Meeting
DESCRIPTION:
URL:https://backend.fridrichandclark.com/event/bw-sales-meeting-2018-03-13/2018-03-13/
LOCATION:TN
END:VEVENT
BEGIN:VEVENT
DTSTART;VALUE=DATE:20180315
DTEND;VALUE=DATE:20180316
DTSTAMP:20260420T105740
CREATED:20170817T170032Z
LAST-MODIFIED:20170817T170032Z
UID:6846-1521072000-1521158399@backend.fridrichandclark.com
SUMMARY:Jenny Perkins bday
DESCRIPTION:
URL:https://backend.fridrichandclark.com/event/jenny-perkins-bday-2/2018-03-15/
LOCATION:TN
CATEGORIES:Birthday
END:VEVENT
BEGIN:VEVENT
DTSTART;VALUE=DATE:20180318
DTEND;VALUE=DATE:20180319
DTSTAMP:20260420T105740
CREATED:20170817T170115Z
LAST-MODIFIED:20170817T170115Z
UID:6849-1521331200-1521417599@backend.fridrichandclark.com
SUMMARY:Courtney Jenrath bday
DESCRIPTION:
URL:https://backend.fridrichandclark.com/event/courtney-jenrath-bday-2/2018-03-18/
LOCATION:TN
CATEGORIES:Birthday
END:VEVENT
BEGIN:VEVENT
DTSTART;VALUE=DATE:20180321
DTEND;VALUE=DATE:20180322
DTSTAMP:20260420T105740
CREATED:20170817T170255Z
LAST-MODIFIED:20170817T170255Z
UID:6855-1521590400-1521676799@backend.fridrichandclark.com
SUMMARY:Whit Clark bday
DESCRIPTION:
URL:https://backend.fridrichandclark.com/event/whit-clark-bday-2/2018-03-21/
LOCATION:TN
CATEGORIES:Birthday
END:VEVENT
BEGIN:VEVENT
DTSTART;TZID=America/New_York:20180321T093000
DTEND;TZID=America/New_York:20180321T103000
DTSTAMP:20260420T105740
CREATED:20171207T201814Z
LAST-MODIFIED:20180316T145702Z
UID:8121-1521624600-1521628200@backend.fridrichandclark.com
SUMMARY:BW Davidson Co Tour - Rescheduled due to TN Realtors Convention
DESCRIPTION:
URL:https://backend.fridrichandclark.com/event/bw-davidson-co-tour-2018-03-20/
LOCATION:TN
END:VEVENT
END:VCALENDAR