BEGIN:VCALENDAR
VERSION:2.0
PRODID:-//Fridrich &amp; Clark - ECPv6.0.12//NONSGML v1.0//EN
CALSCALE:GREGORIAN
METHOD:PUBLISH
X-WR-CALNAME:Fridrich &amp; Clark
X-ORIGINAL-URL:https://backend.fridrichandclark.com
X-WR-CALDESC:Events for Fridrich &amp; Clark
REFRESH-INTERVAL;VALUE=DURATION:PT1H
X-Robots-Tag:noindex
X-PUBLISHED-TTL:PT1H
BEGIN:VTIMEZONE
TZID:America/New_York
BEGIN:DAYLIGHT
TZOFFSETFROM:-0500
TZOFFSETTO:-0400
TZNAME:EDT
DTSTART:20170312T070000
END:DAYLIGHT
BEGIN:STANDARD
TZOFFSETFROM:-0400
TZOFFSETTO:-0500
TZNAME:EST
DTSTART:20171105T060000
END:STANDARD
TZID:America/Indiana/Indianapolis
BEGIN:DAYLIGHT
TZOFFSETFROM:-0500
TZOFFSETTO:-0400
TZNAME:EDT
DTSTART:20170312T070000
END:DAYLIGHT
BEGIN:STANDARD
TZOFFSETFROM:-0400
TZOFFSETTO:-0500
TZNAME:EST
DTSTART:20171105T060000
END:STANDARD
END:VTIMEZONE
BEGIN:VEVENT
DTSTART;TZID=America/New_York:20171128T110000
DTEND;TZID=America/New_York:20171128T120000
DTSTAMP:20260419T163704
CREATED:20171103T180131Z
LAST-MODIFIED:20171103T180131Z
UID:7870-1511866800-1511870400@backend.fridrichandclark.com
SUMMARY:Relocation New Agent Training - Brentwood Office
DESCRIPTION:Relo 101 training on Tuesday\, November 28th at 11:00 in the Brentwood office immediately following Sean’s Realities of Real Estate.  We will be introducing you to our relocation team and going over the basics of how relocation works.
URL:https://backend.fridrichandclark.com/event/relocation-new-agent-training-brentwood-office/
END:VEVENT
BEGIN:VEVENT
DTSTART;VALUE=DATE:20171130
DTEND;VALUE=DATE:20171201
DTSTAMP:20260419T163704
CREATED:20170330T153814Z
LAST-MODIFIED:20170413T201439Z
UID:4818-1512000000-1512086399@backend.fridrichandclark.com
SUMMARY:Sherrie Hudson bday
DESCRIPTION:
URL:https://backend.fridrichandclark.com/event/sherrie-hudson-bday/2017-11-30/
CATEGORIES:Birthday
END:VEVENT
BEGIN:VEVENT
DTSTART;TZID=America/New_York:20171201T103000
DTEND;TZID=America/New_York:20171201T123000
DTSTAMP:20260419T163704
CREATED:20171026T163331Z
LAST-MODIFIED:20171108T183356Z
UID:7774-1512124200-1512131400@backend.fridrichandclark.com
SUMMARY:BW Office - Holiday Decorating/Ugly Sweater Party
DESCRIPTION:Join us to kick off the Holiday Season as we put up our Christmas tree and decorate the Brentwood Office. Ugly Christmas Sweaters are encouraged! Refreshments will be provided.
URL:https://backend.fridrichandclark.com/event/bw-office-holiday-decoratingugly-sweater-party/
LOCATION:Brentwood Office\, 5200 Maryland Way Suite 101\, Brentwood\, TN\, 37027\, United States
CATEGORIES:Company Events
GEO:36.0357352;-86.8033277
X-APPLE-STRUCTURED-LOCATION;VALUE=URI;X-ADDRESS=Brentwood Office 5200 Maryland Way Suite 101 Brentwood TN 37027 United States;X-APPLE-RADIUS=500;X-TITLE=5200 Maryland Way Suite 101:geo:-86.8033277,36.0357352
END:VEVENT
BEGIN:VEVENT
DTSTART;VALUE=DATE:20171202
DTEND;VALUE=DATE:20171203
DTSTAMP:20260419T163704
CREATED:20170308T220144Z
LAST-MODIFIED:20170413T201518Z
UID:4065-1512172800-1512259199@backend.fridrichandclark.com
SUMMARY:Lucy Smith bday
DESCRIPTION:
URL:https://backend.fridrichandclark.com/event/lucy-smith-bday/2017-12-02/
CATEGORIES:Birthday
END:VEVENT
BEGIN:VEVENT
DTSTART;TZID=America/Indiana/Indianapolis:20171206T180000
DTEND;TZID=America/Indiana/Indianapolis:20171206T200000
DTSTAMP:20260419T163704
CREATED:20170209T152702Z
LAST-MODIFIED:20170209T152702Z
UID:3815-1512583200-1512590400@backend.fridrichandclark.com
SUMMARY:Office Christmas Party - Richland Country Club
DESCRIPTION:
URL:https://backend.fridrichandclark.com/event/office-christmas-party-richland-country-club/
END:VEVENT
BEGIN:VEVENT
DTSTART;VALUE=DATE:20171214
DTEND;VALUE=DATE:20171215
DTSTAMP:20260419T163704
CREATED:20170330T160527Z
LAST-MODIFIED:20170503T162336Z
UID:4836-1513209600-1513295999@backend.fridrichandclark.com
SUMMARY:Elaine Finucane bday
DESCRIPTION:
URL:https://backend.fridrichandclark.com/event/elaine-finucane-bday-2/2017-12-14/
CATEGORIES:Birthday
END:VEVENT
BEGIN:VEVENT
DTSTART;VALUE=DATE:20171214
DTEND;VALUE=DATE:20171215
DTSTAMP:20260419T163704
CREATED:20170330T155928Z
LAST-MODIFIED:20170503T162312Z
UID:4824-1513209600-1513295999@backend.fridrichandclark.com
SUMMARY:Connie Allen bday
DESCRIPTION:
URL:https://backend.fridrichandclark.com/event/elaine-finucane-bday/2017-12-14/
CATEGORIES:Birthday
END:VEVENT
BEGIN:VEVENT
DTSTART;VALUE=DATE:20171217
DTEND;VALUE=DATE:20171218
DTSTAMP:20260419T163704
CREATED:20170330T160019Z
LAST-MODIFIED:20170503T162404Z
UID:4827-1513468800-1513555199@backend.fridrichandclark.com
SUMMARY:Jennie Garth Lovvorn bday
DESCRIPTION:
URL:https://backend.fridrichandclark.com/event/jennie-garth-lovvorn-bday/2017-12-17/
CATEGORIES:Birthday
END:VEVENT
BEGIN:VEVENT
DTSTART;VALUE=DATE:20171221
DTEND;VALUE=DATE:20171222
DTSTAMP:20260419T163704
CREATED:20170308T215602Z
LAST-MODIFIED:20170503T162536Z
UID:4044-1513814400-1513900799@backend.fridrichandclark.com
SUMMARY:Lisa Owings bday
DESCRIPTION:
URL:https://backend.fridrichandclark.com/event/lisa-owings-bday/2017-12-21/
CATEGORIES:Birthday
END:VEVENT
BEGIN:VEVENT
DTSTART;VALUE=DATE:20171223
DTEND;VALUE=DATE:20171227
DTSTAMP:20260419T163704
CREATED:20170209T150645Z
LAST-MODIFIED:20170209T150645Z
UID:3762-1513987200-1514332799@backend.fridrichandclark.com
SUMMARY:Christmas Holiday - Offices are Closed
DESCRIPTION:
URL:https://backend.fridrichandclark.com/event/christmas-holiday-offices-are-closed/
END:VEVENT
END:VCALENDAR