BEGIN:VCALENDAR
VERSION:2.0
PRODID:-//Fridrich &amp; Clark - ECPv6.0.12//NONSGML v1.0//EN
CALSCALE:GREGORIAN
METHOD:PUBLISH
X-WR-CALNAME:Fridrich &amp; Clark
X-ORIGINAL-URL:https://backend.fridrichandclark.com
X-WR-CALDESC:Events for Fridrich &amp; Clark
REFRESH-INTERVAL;VALUE=DURATION:PT1H
X-Robots-Tag:noindex
X-PUBLISHED-TTL:PT1H
BEGIN:VTIMEZONE
TZID:America/New_York
BEGIN:DAYLIGHT
TZOFFSETFROM:-0500
TZOFFSETTO:-0400
TZNAME:EDT
DTSTART:20170312T070000
END:DAYLIGHT
BEGIN:STANDARD
TZOFFSETFROM:-0400
TZOFFSETTO:-0500
TZNAME:EST
DTSTART:20171105T060000
END:STANDARD
END:VTIMEZONE
BEGIN:VEVENT
DTSTART;TZID=America/New_York:20171128T110000
DTEND;TZID=America/New_York:20171128T120000
DTSTAMP:20260421T121416
CREATED:20171103T180131Z
LAST-MODIFIED:20171103T180131Z
UID:7870-1511866800-1511870400@backend.fridrichandclark.com
SUMMARY:Relocation New Agent Training - Brentwood Office
DESCRIPTION:Relo 101 training on Tuesday\, November 28th at 11:00 in the Brentwood office immediately following Sean’s Realities of Real Estate.  We will be introducing you to our relocation team and going over the basics of how relocation works.
URL:https://backend.fridrichandclark.com/event/relocation-new-agent-training-brentwood-office/
END:VEVENT
END:VCALENDAR