BEGIN:VCALENDAR
VERSION:2.0
PRODID:-//Fridrich &amp; Clark - ECPv6.0.12//NONSGML v1.0//EN
CALSCALE:GREGORIAN
METHOD:PUBLISH
X-WR-CALNAME:Fridrich &amp; Clark
X-ORIGINAL-URL:https://backend.fridrichandclark.com
X-WR-CALDESC:Events for Fridrich &amp; Clark
REFRESH-INTERVAL;VALUE=DURATION:PT1H
X-Robots-Tag:noindex
X-PUBLISHED-TTL:PT1H
BEGIN:VTIMEZONE
TZID:America/New_York
BEGIN:DAYLIGHT
TZOFFSETFROM:-0500
TZOFFSETTO:-0400
TZNAME:EDT
DTSTART:20170312T070000
END:DAYLIGHT
BEGIN:STANDARD
TZOFFSETFROM:-0400
TZOFFSETTO:-0500
TZNAME:EST
DTSTART:20171105T060000
END:STANDARD
TZID:America/Indiana/Indianapolis
BEGIN:DAYLIGHT
TZOFFSETFROM:-0500
TZOFFSETTO:-0400
TZNAME:EDT
DTSTART:20170312T070000
END:DAYLIGHT
BEGIN:STANDARD
TZOFFSETFROM:-0400
TZOFFSETTO:-0500
TZNAME:EST
DTSTART:20171105T060000
END:STANDARD
END:VTIMEZONE
BEGIN:VEVENT
DTSTART;TZID=America/New_York:20171109T110000
DTEND;TZID=America/New_York:20171109T130000
DTSTAMP:20260419T195311
CREATED:20171103T152530Z
LAST-MODIFIED:20171103T152618Z
UID:7858-1510225200-1510232400@backend.fridrichandclark.com
SUMMARY:1113 Radnor Glen Lunch - Steve Fridrich & Sam Coleman
DESCRIPTION:Chick fil a Box lunch on Thursday the 9th at 1113 Radnor Glen. \nPlease save the date and stop by. \nSteve & Sam
URL:https://backend.fridrichandclark.com/event/1113-radnor-glen-lunch-steve-fridrich-sam-coleman/
LOCATION:TN
END:VEVENT
BEGIN:VEVENT
DTSTART;VALUE=DATE:20171110
DTEND;VALUE=DATE:20171111
DTSTAMP:20260419T195311
CREATED:20170308T215533Z
LAST-MODIFIED:20170413T201042Z
UID:4042-1510272000-1510358399@backend.fridrichandclark.com
SUMMARY:Laurie Omohundro bday
DESCRIPTION:
URL:https://backend.fridrichandclark.com/event/laurie-omohundro-bday/2017-11-10/
LOCATION:TN
CATEGORIES:Birthday
END:VEVENT
BEGIN:VEVENT
DTSTART;TZID=America/Indiana/Indianapolis:20171113T093000
DTEND;TZID=America/Indiana/Indianapolis:20171113T103000
DTSTAMP:20260419T195311
CREATED:20170209T144700Z
LAST-MODIFIED:20171026T201307Z
UID:7556-1510565400-1510569000@backend.fridrichandclark.com
SUMMARY:RARE Training - Hosted by Whit Clark - Bedford Office
DESCRIPTION:
URL:https://backend.fridrichandclark.com/event/rare-training-hosted-by-whit-clark-bedford-office-2018-11-19/
LOCATION:TN
CATEGORIES:Training
END:VEVENT
BEGIN:VEVENT
DTSTART;TZID=America/New_York:20171116T100000
DTEND;TZID=America/New_York:20171116T130000
DTSTAMP:20260419T195311
CREATED:20171026T174348Z
LAST-MODIFIED:20171113T184145Z
UID:7771-1510826400-1510837200@backend.fridrichandclark.com
SUMMARY:Room In The Inn - Feeding the Homeless
DESCRIPTION:Fridrich and Clark Agents will be feeding 250 homeless men and women. Cooks arrive at 10am. Servers arrive by 11:15am. We will be done no later than 1pm. There is no clean up! If you can not attend we also need donations. The lunch costs $600-$750. All size donations are accepted. Make your check out to Fridrich and Clark with Homeless in the memo and give it to Eric Grasman\, Brentwood Front Desk or Peggy Phillips. Cash is fine too. Any overage will go to the next feeding. Thank you!
URL:https://backend.fridrichandclark.com/event/room-in-the-inn-feeding-the-homeless/
LOCATION:Room In The Inn\, 705 Drexel St\, Nashville\, TN\, 37203\, United States
CATEGORIES:Company Events
ORGANIZER;CN="Eric%20Grasman":MAILTO:eric@thebigmove.com
GEO:36.1520238;-86.7786527
X-APPLE-STRUCTURED-LOCATION;VALUE=URI;X-ADDRESS=Room In The Inn 705 Drexel St Nashville TN 37203 United States;X-APPLE-RADIUS=500;X-TITLE=705 Drexel St:geo:-86.7786527,36.1520238
END:VEVENT
BEGIN:VEVENT
DTSTART;TZID=America/New_York:20171116T113000
DTEND;TZID=America/New_York:20171116T133000
DTSTAMP:20260419T195311
CREATED:20171115T223618Z
LAST-MODIFIED:20171115T223618Z
UID:7958-1510831800-1510839000@backend.fridrichandclark.com
SUMMARY:Realtor Preview 1917 Lone Oak Circle Grab a Bottle of Wine
DESCRIPTION:
URL:https://backend.fridrichandclark.com/event/realtor-preview-1917-lone-oak-circle-grab-a-bottle-of-wine/
LOCATION:TN
CATEGORIES:Broker Open House
END:VEVENT
END:VCALENDAR