BEGIN:VCALENDAR
VERSION:2.0
PRODID:-//Fridrich &amp; Clark - ECPv6.0.12//NONSGML v1.0//EN
CALSCALE:GREGORIAN
METHOD:PUBLISH
X-WR-CALNAME:Fridrich &amp; Clark
X-ORIGINAL-URL:https://backend.fridrichandclark.com
X-WR-CALDESC:Events for Fridrich &amp; Clark
REFRESH-INTERVAL;VALUE=DURATION:PT1H
X-Robots-Tag:noindex
X-PUBLISHED-TTL:PT1H
BEGIN:VTIMEZONE
TZID:America/Indiana/Indianapolis
BEGIN:DAYLIGHT
TZOFFSETFROM:-0500
TZOFFSETTO:-0400
TZNAME:EDT
DTSTART:20170312T070000
END:DAYLIGHT
BEGIN:STANDARD
TZOFFSETFROM:-0400
TZOFFSETTO:-0500
TZNAME:EST
DTSTART:20171105T060000
END:STANDARD
TZID:America/New_York
BEGIN:DAYLIGHT
TZOFFSETFROM:-0500
TZOFFSETTO:-0400
TZNAME:EDT
DTSTART:20170312T070000
END:DAYLIGHT
BEGIN:STANDARD
TZOFFSETFROM:-0400
TZOFFSETTO:-0500
TZNAME:EST
DTSTART:20171105T060000
END:STANDARD
TZID:America/Chicago
BEGIN:DAYLIGHT
TZOFFSETFROM:-0600
TZOFFSETTO:-0500
TZNAME:CDT
DTSTART:20170312T080000
END:DAYLIGHT
BEGIN:STANDARD
TZOFFSETFROM:-0500
TZOFFSETTO:-0600
TZNAME:CST
DTSTART:20171105T070000
END:STANDARD
END:VTIMEZONE
BEGIN:VEVENT
DTSTART;TZID=America/Indiana/Indianapolis:20170926T093000
DTEND;TZID=America/Indiana/Indianapolis:20170926T110000
DTSTAMP:20260419T082312
CREATED:20170209T144804Z
LAST-MODIFIED:20170921T195447Z
UID:3798-1506418200-1506423600@backend.fridrichandclark.com
SUMMARY:Realities of Real Estate - Hosted by Sean Simons - Brentwood Office
DESCRIPTION:
URL:https://backend.fridrichandclark.com/event/realities-of-real-estate-hosted-by-sean-simons-brentwood-office-2017-09-25/
LOCATION:TN
CATEGORIES:Training
END:VEVENT
BEGIN:VEVENT
DTSTART;VALUE=DATE:20170928
DTEND;VALUE=DATE:20170929
DTSTAMP:20260419T082312
CREATED:20170615T152604Z
LAST-MODIFIED:20170615T152604Z
UID:6038-1506556800-1506643199@backend.fridrichandclark.com
SUMMARY:Middle Tennessee REALTORS Convention
DESCRIPTION:To be held at the Music City Center. \n 
URL:https://backend.fridrichandclark.com/event/middle-tennessee-realtors-convention/
LOCATION:TN
END:VEVENT
BEGIN:VEVENT
DTSTART;VALUE=DATE:20171001
DTEND;VALUE=DATE:20171002
DTSTAMP:20260419T082312
CREATED:20170330T153341Z
LAST-MODIFIED:20170413T200132Z
UID:4796-1506816000-1506902399@backend.fridrichandclark.com
SUMMARY:Tim Bennett bday
DESCRIPTION:
URL:https://backend.fridrichandclark.com/event/tim-bennett-bday/2017-10-01/
LOCATION:TN
CATEGORIES:Birthday
END:VEVENT
BEGIN:VEVENT
DTSTART;VALUE=DATE:20171003
DTEND;VALUE=DATE:20171004
DTSTAMP:20260419T082312
CREATED:20170308T204732Z
LAST-MODIFIED:20170413T200220Z
UID:3976-1506988800-1507075199@backend.fridrichandclark.com
SUMMARY:Teresa Beard bday
DESCRIPTION:
URL:https://backend.fridrichandclark.com/event/teresa-beard-bday/2017-10-03/
LOCATION:TN
CATEGORIES:Birthday
END:VEVENT
BEGIN:VEVENT
DTSTART;TZID=America/Chicago:20171003T110000
DTEND;TZID=America/Chicago:20171003T133000
DTSTAMP:20260419T082312
CREATED:20170925T181200Z
LAST-MODIFIED:20170925T181240Z
UID:7300-1507028400-1507037400@backend.fridrichandclark.com
SUMMARY:Agent Tour Luncheon Lorie Lytle's house
DESCRIPTION:Sneak peek tour and luncheon \nGumbo-Red beans and rice-Bloody Mary’s \nAnnandale \n397 Grovehurst Lane\, Brentwood 37027
URL:https://backend.fridrichandclark.com/event/agent-progressive-tour-luncheon-lorie-lytles-house/
LOCATION:TN
CATEGORIES:Broker Open House
END:VEVENT
END:VCALENDAR