BEGIN:VCALENDAR
VERSION:2.0
PRODID:-//Fridrich &amp; Clark - ECPv6.0.12//NONSGML v1.0//EN
CALSCALE:GREGORIAN
METHOD:PUBLISH
X-ORIGINAL-URL:https://backend.fridrichandclark.com
X-WR-CALDESC:Events for Fridrich &amp; Clark
REFRESH-INTERVAL;VALUE=DURATION:PT1H
X-Robots-Tag:noindex
X-PUBLISHED-TTL:PT1H
BEGIN:VTIMEZONE
TZID:America/New_York
BEGIN:DAYLIGHT
TZOFFSETFROM:-0500
TZOFFSETTO:-0400
TZNAME:EDT
DTSTART:20180311T070000
END:DAYLIGHT
BEGIN:STANDARD
TZOFFSETFROM:-0400
TZOFFSETTO:-0500
TZNAME:EST
DTSTART:20181104T060000
END:STANDARD
BEGIN:DAYLIGHT
TZOFFSETFROM:-0500
TZOFFSETTO:-0400
TZNAME:EDT
DTSTART:20190310T070000
END:DAYLIGHT
BEGIN:STANDARD
TZOFFSETFROM:-0400
TZOFFSETTO:-0500
TZNAME:EST
DTSTART:20191103T060000
END:STANDARD
TZID:America/Chicago
BEGIN:DAYLIGHT
TZOFFSETFROM:-0600
TZOFFSETTO:-0500
TZNAME:CDT
DTSTART:20190310T080000
END:DAYLIGHT
BEGIN:STANDARD
TZOFFSETFROM:-0500
TZOFFSETTO:-0600
TZNAME:CST
DTSTART:20191103T070000
END:STANDARD
END:VTIMEZONE
BEGIN:VEVENT
DTSTART;TZID=America/New_York:20180206T091500
DTEND;TZID=America/New_York:20180206T103000
DTSTAMP:20260420T130838
CREATED:20171214T144854Z
LAST-MODIFIED:20180206T142741Z
UID:8196-1517908500-1517913000@backend.fridrichandclark.com
SUMMARY:Bedford Office Sales Meeting
DESCRIPTION:
URL:https://backend.fridrichandclark.com/event/bedford-office-sales-meeting-2/2018-02-06/
LOCATION:TN
CATEGORIES:Sales Meeting
END:VEVENT
BEGIN:VEVENT
DTSTART;TZID=America/New_York:20180417T091500
DTEND;TZID=America/New_York:20180417T103000
DTSTAMP:20260420T130838
CREATED:20171214T145715Z
LAST-MODIFIED:20180206T142929Z
UID:8215-1523956500-1523961000@backend.fridrichandclark.com
SUMMARY:Bedford Sales Meeting
DESCRIPTION:
URL:https://backend.fridrichandclark.com/event/bedford-sales-meeting-3/2018-04-17/
LOCATION:TN
CATEGORIES:Sales Meeting
END:VEVENT
BEGIN:VEVENT
DTSTART;TZID=America/New_York:20180515T091500
DTEND;TZID=America/New_York:20180515T103000
DTSTAMP:20260420T130838
CREATED:20171214T145715Z
LAST-MODIFIED:20180509T142010Z
UID:8758-1526375700-1526380200@backend.fridrichandclark.com
SUMMARY:Joint Sales Meeting at Bedford
DESCRIPTION:Courtney Ross\, Economic Development director for the Nashville Area Chamber of Commerce\, will share stats and data on the vibrant economy we enjoy in Nashville. \nPlease make every effort to attend.
URL:https://backend.fridrichandclark.com/event/bedford-sales-meeting-3-2018-05-15/
LOCATION:Green Hills Office\, 3825 Bedford Avenue\, Nashville\, TN\, 37215\, United States
CATEGORIES:Sales Meeting
GEO:36.1074927;-86.8211913
X-APPLE-STRUCTURED-LOCATION;VALUE=URI;X-ADDRESS=Green Hills Office 3825 Bedford Avenue Nashville TN 37215 United States;X-APPLE-RADIUS=500;X-TITLE=3825 Bedford Avenue:geo:-86.8211913,36.1074927
END:VEVENT
BEGIN:VEVENT
DTSTART;TZID=America/New_York:20180717T091500
DTEND;TZID=America/New_York:20180717T103000
DTSTAMP:20260420T130838
CREATED:20171214T145715Z
LAST-MODIFIED:20180709T145859Z
UID:8760-1531818900-1531823400@backend.fridrichandclark.com
SUMMARY:Bedford Sales Meeting rescheduled to 24th
DESCRIPTION:
URL:https://backend.fridrichandclark.com/event/bedford-sales-meeting-3-2018-07-17/
LOCATION:TN
CATEGORIES:Sales Meeting
END:VEVENT
BEGIN:VEVENT
DTSTART;TZID=America/New_York:20180724T091500
DTEND;TZID=America/New_York:20180724T103000
DTSTAMP:20260420T130838
CREATED:20180709T145736Z
LAST-MODIFIED:20180709T145736Z
UID:10414-1532423700-1532428200@backend.fridrichandclark.com
SUMMARY:Bedford Sales Meeting
DESCRIPTION:The sales meeting was moved from July 17th to July 24th.
URL:https://backend.fridrichandclark.com/event/bedford-sales-meeting-6/
LOCATION:TN
CATEGORIES:Sales Meeting
END:VEVENT
BEGIN:VEVENT
DTSTART;TZID=America/New_York:20180807T091500
DTEND;TZID=America/New_York:20180807T223000
DTSTAMP:20260420T130838
CREATED:20171214T150808Z
LAST-MODIFIED:20180206T143116Z
UID:8231-1533633300-1533681000@backend.fridrichandclark.com
SUMMARY:Bedford Sales Meeting
DESCRIPTION:
URL:https://backend.fridrichandclark.com/event/bedford-sales-meeting-4/
LOCATION:TN
CATEGORIES:Sales Meeting
END:VEVENT
BEGIN:VEVENT
DTSTART;TZID=America/New_York:20180904T091500
DTEND;TZID=America/New_York:20180904T103000
DTSTAMP:20260420T130838
CREATED:20171214T151044Z
LAST-MODIFIED:20180206T143253Z
UID:8233-1536052500-1536057000@backend.fridrichandclark.com
SUMMARY:Bedford Sales Meeting
DESCRIPTION:
URL:https://backend.fridrichandclark.com/event/bedford-sales-meeting-5/2018-09-04/
LOCATION:TN
CATEGORIES:Sales Meeting
END:VEVENT
BEGIN:VEVENT
DTSTART;TZID=America/New_York:20181002T091500
DTEND;TZID=America/New_York:20181002T103000
DTSTAMP:20260420T130838
CREATED:20171214T151044Z
LAST-MODIFIED:20180920T182521Z
UID:8762-1538471700-1538476200@backend.fridrichandclark.com
SUMMARY:Bedford Sales Meeting Cancelled
DESCRIPTION:
URL:https://backend.fridrichandclark.com/event/bedford-sales-meeting-5-2018-10-02/
LOCATION:TN
CATEGORIES:Sales Meeting
END:VEVENT
BEGIN:VEVENT
DTSTART;TZID=America/New_York:20190108T091500
DTEND;TZID=America/New_York:20190108T103000
DTSTAMP:20260420T130838
CREATED:20181219T135942Z
LAST-MODIFIED:20181219T135942Z
UID:12127-1546938900-1546943400@backend.fridrichandclark.com
SUMMARY:Bedford Office Sales Meeting
DESCRIPTION:Come hear Terri Ricks speak on Risk Management.
URL:https://backend.fridrichandclark.com/event/bedford-office-sales-meeting-3/
LOCATION:Green Hills Office\, 3825 Bedford Avenue\, Nashville\, TN\, 37215\, United States
CATEGORIES:Sales Meeting
GEO:36.1074927;-86.8211913
X-APPLE-STRUCTURED-LOCATION;VALUE=URI;X-ADDRESS=Green Hills Office 3825 Bedford Avenue Nashville TN 37215 United States;X-APPLE-RADIUS=500;X-TITLE=3825 Bedford Avenue:geo:-86.8211913,36.1074927
END:VEVENT
BEGIN:VEVENT
DTSTART;TZID=America/New_York:20190205T091500
DTEND;TZID=America/New_York:20190205T103000
DTSTAMP:20260420T130838
CREATED:20181219T140020Z
LAST-MODIFIED:20181219T140020Z
UID:12129-1549358100-1549362600@backend.fridrichandclark.com
SUMMARY:Bedford Office Sales Meeting
DESCRIPTION:
URL:https://backend.fridrichandclark.com/event/bedford-office-sales-meeting-4/
LOCATION:Green Hills Office\, 3825 Bedford Avenue\, Nashville\, TN\, 37215\, United States
CATEGORIES:Sales Meeting
GEO:36.1074927;-86.8211913
X-APPLE-STRUCTURED-LOCATION;VALUE=URI;X-ADDRESS=Green Hills Office 3825 Bedford Avenue Nashville TN 37215 United States;X-APPLE-RADIUS=500;X-TITLE=3825 Bedford Avenue:geo:-86.8211913,36.1074927
END:VEVENT
BEGIN:VEVENT
DTSTART;TZID=America/Chicago:20190212T091500
DTEND;TZID=America/Chicago:20190212T110000
DTSTAMP:20260420T130838
CREATED:20190121T161813Z
LAST-MODIFIED:20190211T223050Z
UID:12476-1549962900-1549969200@backend.fridrichandclark.com
SUMMARY:BW Sales Meeting
DESCRIPTION:
URL:https://backend.fridrichandclark.com/event/bw-sales-meeting-wms-co-tour/
LOCATION:TN
CATEGORIES:Property Tours,Sales Meeting
END:VEVENT
BEGIN:VEVENT
DTSTART;TZID=America/New_York:20190305T091500
DTEND;TZID=America/New_York:20190305T103000
DTSTAMP:20260420T130838
CREATED:20181219T140102Z
LAST-MODIFIED:20181219T140102Z
UID:12131-1551777300-1551781800@backend.fridrichandclark.com
SUMMARY:Bedford Office Sales Meeting
DESCRIPTION:
URL:https://backend.fridrichandclark.com/event/bedford-office-sales-meeting-5/
LOCATION:TN
CATEGORIES:Sales Meeting
END:VEVENT
BEGIN:VEVENT
DTSTART;TZID=America/Chicago:20190312T091500
DTEND;TZID=America/Chicago:20190312T110000
DTSTAMP:20260420T130838
CREATED:20190121T161813Z
LAST-MODIFIED:20190205T172807Z
UID:12478-1552382100-1552388400@backend.fridrichandclark.com
SUMMARY:BW Sales Meeting & Wms Co Tour
DESCRIPTION:
URL:https://backend.fridrichandclark.com/event/bw-sales-meeting-wms-co-tour-2019-03-12/
LOCATION:TN
CATEGORIES:Property Tours,Sales Meeting
END:VEVENT
BEGIN:VEVENT
DTSTART;TZID=America/New_York:20190402T091500
DTEND;TZID=America/New_York:20190402T103000
DTSTAMP:20260420T130838
CREATED:20181219T140134Z
LAST-MODIFIED:20181219T140134Z
UID:12133-1554196500-1554201000@backend.fridrichandclark.com
SUMMARY:Bedford Office Sales Meeting
DESCRIPTION:
URL:https://backend.fridrichandclark.com/event/bedford-office-sales-meeting-6/
LOCATION:Green Hills Office\, 3825 Bedford Avenue\, Nashville\, TN\, 37215\, United States
CATEGORIES:Sales Meeting
GEO:36.1074927;-86.8211913
X-APPLE-STRUCTURED-LOCATION;VALUE=URI;X-ADDRESS=Green Hills Office 3825 Bedford Avenue Nashville TN 37215 United States;X-APPLE-RADIUS=500;X-TITLE=3825 Bedford Avenue:geo:-86.8211913,36.1074927
END:VEVENT
BEGIN:VEVENT
DTSTART;TZID=America/Chicago:20190409T091500
DTEND;TZID=America/Chicago:20190409T110000
DTSTAMP:20260420T130838
CREATED:20190121T161813Z
LAST-MODIFIED:20190408T170019Z
UID:12479-1554801300-1554807600@backend.fridrichandclark.com
SUMMARY:BW Sales Meeting
DESCRIPTION:
URL:https://backend.fridrichandclark.com/event/bw-sales-meeting-wms-co-tour-2019-04-09/
LOCATION:TN
CATEGORIES:Property Tours,Sales Meeting
END:VEVENT
BEGIN:VEVENT
DTSTART;TZID=America/New_York:20190416T091500
DTEND;TZID=America/New_York:20190416T103000
DTSTAMP:20260420T130838
CREATED:20181219T140215Z
LAST-MODIFIED:20181219T140215Z
UID:12135-1555406100-1555410600@backend.fridrichandclark.com
SUMMARY:Bedford Office Sales Meeting
DESCRIPTION:
URL:https://backend.fridrichandclark.com/event/bedford-office-sales-meeting-7/
LOCATION:Green Hills Office\, 3825 Bedford Avenue\, Nashville\, TN\, 37215\, United States
CATEGORIES:Sales Meeting
GEO:36.1074927;-86.8211913
X-APPLE-STRUCTURED-LOCATION;VALUE=URI;X-ADDRESS=Green Hills Office 3825 Bedford Avenue Nashville TN 37215 United States;X-APPLE-RADIUS=500;X-TITLE=3825 Bedford Avenue:geo:-86.8211913,36.1074927
END:VEVENT
BEGIN:VEVENT
DTSTART;TZID=America/New_York:20190507T091500
DTEND;TZID=America/New_York:20190507T103000
DTSTAMP:20260420T130838
CREATED:20181219T140250Z
LAST-MODIFIED:20181219T140250Z
UID:12137-1557220500-1557225000@backend.fridrichandclark.com
SUMMARY:Bedford Office Sales Meeting
DESCRIPTION:
URL:https://backend.fridrichandclark.com/event/bedford-office-sales-meeting-8/
LOCATION:Green Hills Office\, 3825 Bedford Avenue\, Nashville\, TN\, 37215\, United States
CATEGORIES:Sales Meeting
GEO:36.1074927;-86.8211913
X-APPLE-STRUCTURED-LOCATION;VALUE=URI;X-ADDRESS=Green Hills Office 3825 Bedford Avenue Nashville TN 37215 United States;X-APPLE-RADIUS=500;X-TITLE=3825 Bedford Avenue:geo:-86.8211913,36.1074927
END:VEVENT
BEGIN:VEVENT
DTSTART;TZID=America/Chicago:20190514T093000
DTEND;TZID=America/Chicago:20190514T113000
DTSTAMP:20260420T130838
CREATED:20190121T161813Z
LAST-MODIFIED:20190402T145830Z
UID:12480-1557826200-1557833400@backend.fridrichandclark.com
SUMMARY:JOINT SALES MTG & TACO TUESDAY | BW Office
DESCRIPTION:
URL:https://backend.fridrichandclark.com/event/bw-sales-meeting-wms-co-tour-2019-04-09-2019-05-14/
LOCATION:Brentwood Office\, 5200 Maryland Way Suite 101\, Brentwood\, TN\, 37027\, United States
CATEGORIES:Property Tours,Sales Meeting
GEO:36.0357352;-86.8033277
X-APPLE-STRUCTURED-LOCATION;VALUE=URI;X-ADDRESS=Brentwood Office 5200 Maryland Way Suite 101 Brentwood TN 37027 United States;X-APPLE-RADIUS=500;X-TITLE=5200 Maryland Way Suite 101:geo:-86.8033277,36.0357352
END:VEVENT
BEGIN:VEVENT
DTSTART;TZID=America/New_York:20190521T091500
DTEND;TZID=America/New_York:20190521T103000
DTSTAMP:20260420T130838
CREATED:20181219T140329Z
LAST-MODIFIED:20181219T140329Z
UID:12139-1558430100-1558434600@backend.fridrichandclark.com
SUMMARY:Bedford Office Sales Meeting
DESCRIPTION:
URL:https://backend.fridrichandclark.com/event/bedford-office-sales-meeting-9/
LOCATION:Green Hills Office\, 3825 Bedford Avenue\, Nashville\, TN\, 37215\, United States
CATEGORIES:Sales Meeting
GEO:36.1074927;-86.8211913
X-APPLE-STRUCTURED-LOCATION;VALUE=URI;X-ADDRESS=Green Hills Office 3825 Bedford Avenue Nashville TN 37215 United States;X-APPLE-RADIUS=500;X-TITLE=3825 Bedford Avenue:geo:-86.8211913,36.1074927
END:VEVENT
BEGIN:VEVENT
DTSTART;TZID=America/New_York:20190604T091500
DTEND;TZID=America/New_York:20190604T103000
DTSTAMP:20260420T130838
CREATED:20181219T140403Z
LAST-MODIFIED:20181219T140403Z
UID:12141-1559639700-1559644200@backend.fridrichandclark.com
SUMMARY:Bedford Office Sales Meeting
DESCRIPTION:
URL:https://backend.fridrichandclark.com/event/bedford-office-sales-meeting-10/
LOCATION:Green Hills Office\, 3825 Bedford Avenue\, Nashville\, TN\, 37215\, United States
CATEGORIES:Sales Meeting
GEO:36.1074927;-86.8211913
X-APPLE-STRUCTURED-LOCATION;VALUE=URI;X-ADDRESS=Green Hills Office 3825 Bedford Avenue Nashville TN 37215 United States;X-APPLE-RADIUS=500;X-TITLE=3825 Bedford Avenue:geo:-86.8211913,36.1074927
END:VEVENT
BEGIN:VEVENT
DTSTART;TZID=America/Chicago:20190611T110000
DTEND;TZID=America/Chicago:20190611T120000
DTSTAMP:20260420T130838
CREATED:20190121T161813Z
LAST-MODIFIED:20190604T204231Z
UID:12481-1560250800-1560254400@backend.fridrichandclark.com
SUMMARY:BW Office Wms Co Tour
DESCRIPTION:
URL:https://backend.fridrichandclark.com/event/bw-sales-meeting-wms-co-tour-2019-04-09-2019-06-11/
LOCATION:TN
CATEGORIES:Property Tours,Sales Meeting
END:VEVENT
BEGIN:VEVENT
DTSTART;TZID=America/New_York:20190618T091500
DTEND;TZID=America/New_York:20190618T103000
DTSTAMP:20260420T130838
CREATED:20181219T140434Z
LAST-MODIFIED:20181219T140434Z
UID:12143-1560849300-1560853800@backend.fridrichandclark.com
SUMMARY:Bedford Office Sales Meeting
DESCRIPTION:
URL:https://backend.fridrichandclark.com/event/bedford-office-sales-meeting-11/
LOCATION:Green Hills Office\, 3825 Bedford Avenue\, Nashville\, TN\, 37215\, United States
CATEGORIES:Sales Meeting
GEO:36.1074927;-86.8211913
X-APPLE-STRUCTURED-LOCATION;VALUE=URI;X-ADDRESS=Green Hills Office 3825 Bedford Avenue Nashville TN 37215 United States;X-APPLE-RADIUS=500;X-TITLE=3825 Bedford Avenue:geo:-86.8211913,36.1074927
END:VEVENT
BEGIN:VEVENT
DTSTART;TZID=America/New_York:20190702T091500
DTEND;TZID=America/New_York:20190702T103000
DTSTAMP:20260420T130838
CREATED:20181219T140525Z
LAST-MODIFIED:20190611T130913Z
UID:12145-1562058900-1562063400@backend.fridrichandclark.com
SUMMARY:NO Bedford Office Sales Meeting
DESCRIPTION:Due to the holiday week there will be no Bedford Office Sales Meeting.   The next one is scheduled for July 16\, 2019.
URL:https://backend.fridrichandclark.com/event/bedford-office-sales-meeting-12/
LOCATION:TN
CATEGORIES:Sales Meeting
END:VEVENT
BEGIN:VEVENT
DTSTART;TZID=America/Chicago:20190709T091500
DTEND;TZID=America/Chicago:20190709T110000
DTSTAMP:20260420T130838
CREATED:20190121T161813Z
LAST-MODIFIED:20190604T200430Z
UID:12482-1562663700-1562670000@backend.fridrichandclark.com
SUMMARY:BW Sales Meeting & Wms Co Tour
DESCRIPTION:
URL:https://backend.fridrichandclark.com/event/bw-sales-meeting-wms-co-tour-2019-04-09-2019-07-09/2019-07-09/
LOCATION:TN
CATEGORIES:Property Tours,Sales Meeting
END:VEVENT
BEGIN:VEVENT
DTSTART;TZID=America/New_York:20190716T091500
DTEND;TZID=America/New_York:20190716T103000
DTSTAMP:20260420T130838
CREATED:20181219T140559Z
LAST-MODIFIED:20181219T140559Z
UID:12147-1563268500-1563273000@backend.fridrichandclark.com
SUMMARY:Bedford Office Sales Meeting
DESCRIPTION:
URL:https://backend.fridrichandclark.com/event/bedford-office-sales-meeting-13/
LOCATION:Green Hills Office\, 3825 Bedford Avenue\, Nashville\, TN\, 37215\, United States
CATEGORIES:Sales Meeting
GEO:36.1074927;-86.8211913
X-APPLE-STRUCTURED-LOCATION;VALUE=URI;X-ADDRESS=Green Hills Office 3825 Bedford Avenue Nashville TN 37215 United States;X-APPLE-RADIUS=500;X-TITLE=3825 Bedford Avenue:geo:-86.8211913,36.1074927
END:VEVENT
BEGIN:VEVENT
DTSTART;TZID=America/New_York:20190806T091500
DTEND;TZID=America/New_York:20190806T103000
DTSTAMP:20260420T130838
CREATED:20181219T140635Z
LAST-MODIFIED:20181219T140635Z
UID:12149-1565082900-1565087400@backend.fridrichandclark.com
SUMMARY:Bedford Office Sales Meeting
DESCRIPTION:
URL:https://backend.fridrichandclark.com/event/bedford-office-sales-meeting-14/
LOCATION:Green Hills Office\, 3825 Bedford Avenue\, Nashville\, TN\, 37215\, United States
CATEGORIES:Sales Meeting
GEO:36.1074927;-86.8211913
X-APPLE-STRUCTURED-LOCATION;VALUE=URI;X-ADDRESS=Green Hills Office 3825 Bedford Avenue Nashville TN 37215 United States;X-APPLE-RADIUS=500;X-TITLE=3825 Bedford Avenue:geo:-86.8211913,36.1074927
END:VEVENT
BEGIN:VEVENT
DTSTART;TZID=America/New_York:20190820T091500
DTEND;TZID=America/New_York:20190820T103000
DTSTAMP:20260420T130838
CREATED:20181219T140708Z
LAST-MODIFIED:20181219T140708Z
UID:12151-1566292500-1566297000@backend.fridrichandclark.com
SUMMARY:Bedford Office Sales Meeting
DESCRIPTION:
URL:https://backend.fridrichandclark.com/event/bedford-office-sales-meeting-15/
LOCATION:Green Hills Office\, 3825 Bedford Avenue\, Nashville\, TN\, 37215\, United States
CATEGORIES:Sales Meeting
GEO:36.1074927;-86.8211913
X-APPLE-STRUCTURED-LOCATION;VALUE=URI;X-ADDRESS=Green Hills Office 3825 Bedford Avenue Nashville TN 37215 United States;X-APPLE-RADIUS=500;X-TITLE=3825 Bedford Avenue:geo:-86.8211913,36.1074927
END:VEVENT
BEGIN:VEVENT
DTSTART;TZID=America/New_York:20190903T091500
DTEND;TZID=America/New_York:20190903T103000
DTSTAMP:20260420T130838
CREATED:20181219T140747Z
LAST-MODIFIED:20190903T214525Z
UID:12153-1567502100-1567506600@backend.fridrichandclark.com
SUMMARY:NO Bedford Office Sales Meeting today - Moved to Joint meeting 9/17
DESCRIPTION:
URL:https://backend.fridrichandclark.com/event/bedford-office-sales-meeting-16/
LOCATION:Brentwood Office\, 5200 Maryland Way Suite 101\, Brentwood\, TN\, 37027\, United States
CATEGORIES:Sales Meeting
GEO:36.0357352;-86.8033277
X-APPLE-STRUCTURED-LOCATION;VALUE=URI;X-ADDRESS=Brentwood Office 5200 Maryland Way Suite 101 Brentwood TN 37027 United States;X-APPLE-RADIUS=500;X-TITLE=5200 Maryland Way Suite 101:geo:-86.8033277,36.0357352
END:VEVENT
BEGIN:VEVENT
DTSTART;TZID=America/Chicago:20190910T093000
DTEND;TZID=America/Chicago:20190910T103000
DTSTAMP:20260420T130838
CREATED:20190830T204507Z
LAST-MODIFIED:20190903T214849Z
UID:15144-1568107800-1568111400@backend.fridrichandclark.com
SUMMARY:BW Williamson Co Tour
DESCRIPTION:
URL:https://backend.fridrichandclark.com/event/no-brentwood-sales-meeting/
LOCATION:Brentwood Office\, 5200 Maryland Way Suite 101\, Brentwood\, TN\, 37027\, United States
CATEGORIES:Sales Meeting
GEO:36.0357352;-86.8033277
X-APPLE-STRUCTURED-LOCATION;VALUE=URI;X-ADDRESS=Brentwood Office 5200 Maryland Way Suite 101 Brentwood TN 37027 United States;X-APPLE-RADIUS=500;X-TITLE=5200 Maryland Way Suite 101:geo:-86.8033277,36.0357352
END:VEVENT
BEGIN:VEVENT
DTSTART;TZID=America/Chicago:20190910T093000
DTEND;TZID=America/Chicago:20190910T103000
DTSTAMP:20260420T130838
CREATED:20190903T215044Z
LAST-MODIFIED:20190903T215044Z
UID:15167-1568107800-1568111400@backend.fridrichandclark.com
SUMMARY:NO BW Sales Meeting today – Moved to Joint Meeting 9/17
DESCRIPTION:
URL:https://backend.fridrichandclark.com/event/no-bw-sales-meeting-today-moved-to-joint-meeting-9-17/
LOCATION:TN
CATEGORIES:Sales Meeting
END:VEVENT
END:VCALENDAR